Back to Build/check report for BioC 3.14 experimental data
ABCDEFGHIJKLMNOP[Q]RSTUVWXYZ

This page was generated on 2021-10-26 15:52:19 -0400 (Tue, 26 Oct 2021).

INSTALL results for QDNAseq.mm10 on nebbiolo2

To the developers/maintainers of the QDNAseq.mm10 package:
Make sure to use the following settings in order to reproduce any error or warning you see on this page.

raw results

Package 297/408HostnameOS / ArchINSTALLBUILDCHECK
QDNAseq.mm10 1.23.0  (landing page)
Daoud Sie
Snapshot Date: 2021-10-26 09:30:02 -0400 (Tue, 26 Oct 2021)
git_url: https://git.bioconductor.org/packages/QDNAseq.mm10
git_branch: master
git_last_commit: 5a49604
git_last_commit_date: 2021-05-19 11:53:07 -0400 (Wed, 19 May 2021)
nebbiolo2Linux (Ubuntu 20.04.2 LTS) / x86_64  OK    OK    OK  UNNEEDED, same version is already published

Summary

Package: QDNAseq.mm10
Version: 1.23.0
Command: /home/biocbuild/bbs-3.14-bioc/R/bin/R CMD INSTALL QDNAseq.mm10
StartedAt: 2021-10-26 11:02:37 -0400 (Tue, 26 Oct 2021)
EndedAt: 2021-10-26 11:02:48 -0400 (Tue, 26 Oct 2021)
EllapsedTime: 11.7 seconds
RetCode: 0
Status:   OK  

Command output

##############################################################################
##############################################################################
###
### Running command:
###
###   /home/biocbuild/bbs-3.14-bioc/R/bin/R CMD INSTALL QDNAseq.mm10
###
##############################################################################
##############################################################################


* installing to library ‘/home/biocbuild/bbs-3.14-bioc/R/library’
* installing *source* package ‘QDNAseq.mm10’ ...
** using staged installation
** R
** data
** byte-compile and prepare package for lazy loading
** help
*** installing help indices
** building package indices
** testing if installed package can be loaded from temporary location
** testing if installed package can be loaded from final location
** testing if installed package keeps a record of temporary installation path
* DONE (QDNAseq.mm10)