Back to Build/check report for BioC 3.14 experimental data
ABCDEFGHIJKLMNOP[Q]RSTUVWXYZ

This page was generated on 2021-10-16 15:51:46 -0400 (Sat, 16 Oct 2021).

CHECK results for QDNAseq.mm10 on nebbiolo2

To the developers/maintainers of the QDNAseq.mm10 package:
Make sure to use the following settings in order to reproduce any error or warning you see on this page.

raw results

Package 295/404HostnameOS / ArchINSTALLBUILDCHECK
QDNAseq.mm10 1.23.0  (landing page)
Daoud Sie
Snapshot Date: 2021-10-16 09:30:02 -0400 (Sat, 16 Oct 2021)
git_url: https://git.bioconductor.org/packages/QDNAseq.mm10
git_branch: master
git_last_commit: 5a49604
git_last_commit_date: 2021-05-19 11:53:07 -0400 (Wed, 19 May 2021)
nebbiolo2Linux (Ubuntu 20.04.2 LTS) / x86_64  OK    OK    OK  UNNEEDED, same version is already published

Summary

Package: QDNAseq.mm10
Version: 1.23.0
Command: /home/biocbuild/bbs-3.14-bioc/R/bin/R CMD check --install=check:QDNAseq.mm10.install-out.txt --library=/home/biocbuild/bbs-3.14-bioc/R/library --no-vignettes --timings QDNAseq.mm10_1.23.0.tar.gz
StartedAt: 2021-10-16 12:30:03 -0400 (Sat, 16 Oct 2021)
EndedAt: 2021-10-16 12:31:55 -0400 (Sat, 16 Oct 2021)
EllapsedTime: 112.1 seconds
RetCode: 0
Status:   OK  
CheckDir: QDNAseq.mm10.Rcheck
Warnings: 0

Command output

##############################################################################
##############################################################################
###
### Running command:
###
###   /home/biocbuild/bbs-3.14-bioc/R/bin/R CMD check --install=check:QDNAseq.mm10.install-out.txt --library=/home/biocbuild/bbs-3.14-bioc/R/library --no-vignettes --timings QDNAseq.mm10_1.23.0.tar.gz
###
##############################################################################
##############################################################################


* using log directory ‘/home/biocbuild/bbs-3.14-data-experiment/meat/QDNAseq.mm10.Rcheck’
* using R version 4.1.1 (2021-08-10)
* using platform: x86_64-pc-linux-gnu (64-bit)
* using session charset: UTF-8
* using option ‘--no-vignettes’
* checking for file ‘QDNAseq.mm10/DESCRIPTION’ ... OK
* checking extension type ... Package
* this is package ‘QDNAseq.mm10’ version ‘1.23.0’
* checking package namespace information ... OK
* checking package dependencies ... OK
* checking if this is a source package ... OK
* checking if there is a namespace ... OK
* checking for hidden files and directories ... OK
* checking for portable file names ... OK
* checking for sufficient/correct file permissions ... OK
* checking whether package ‘QDNAseq.mm10’ can be installed ... OK
* checking installed package size ... NOTE
  installed size is 31.3Mb
  sub-directories of 1Mb or more:
    data  31.2Mb
* checking package directory ... OK
* checking DESCRIPTION meta-information ... OK
* checking top-level files ... OK
* checking for left-over files ... OK
* checking index information ... OK
* checking package subdirectories ... OK
* checking R files for non-ASCII characters ... OK
* checking R files for syntax errors ... OK
* checking whether the package can be loaded ... OK
* checking whether the package can be loaded with stated dependencies ... OK
* checking whether the package can be unloaded cleanly ... OK
* checking whether the namespace can be loaded with stated dependencies ... OK
* checking whether the namespace can be unloaded cleanly ... OK
* checking dependencies in R code ... OK
* checking S3 generic/method consistency ... OK
* checking replacement functions ... OK
* checking foreign function calls ... OK
* checking R code for possible problems ... OK
* checking Rd files ... OK
* checking Rd metadata ... OK
* checking Rd cross-references ... OK
* checking for missing documentation entries ... OK
* checking for code/documentation mismatches ... OK
* checking Rd \usage sections ... OK
* checking Rd contents ... OK
* checking for unstated dependencies in examples ... OK
* checking contents of ‘data’ directory ... OK
* checking data for non-ASCII characters ... OK
* checking data for ASCII and uncompressed saves ... OK
* checking examples ... OK
Examples with CPU (user + system) or elapsed time > 5s
                 user system elapsed
mm10.1kbp.SR50 13.829  0.468  14.297
* checking PDF version of manual ... OK
* DONE

Status: 1 NOTE
See
  ‘/home/biocbuild/bbs-3.14-data-experiment/meat/QDNAseq.mm10.Rcheck/00check.log’
for details.



Installation output

QDNAseq.mm10.Rcheck/00install.out

##############################################################################
##############################################################################
###
### Running command:
###
###   /home/biocbuild/bbs-3.14-bioc/R/bin/R CMD INSTALL QDNAseq.mm10
###
##############################################################################
##############################################################################


* installing to library ‘/home/biocbuild/bbs-3.14-bioc/R/library’
* installing *source* package ‘QDNAseq.mm10’ ...
** using staged installation
** R
** data
** byte-compile and prepare package for lazy loading
** help
*** installing help indices
** building package indices
** testing if installed package can be loaded from temporary location
** testing if installed package can be loaded from final location
** testing if installed package keeps a record of temporary installation path
* DONE (QDNAseq.mm10)

Tests output


Example timings

QDNAseq.mm10.Rcheck/QDNAseq.mm10-Ex.timings

nameusersystemelapsed
QDNAseq.mm10-package0.7190.0040.723
mm10.1000kbp.SR500.0200.0000.019
mm10.100kbp.SR500.1060.0110.117
mm10.10kbp.SR501.3990.0391.440
mm10.15kbp.SR500.7370.0280.766
mm10.1kbp.SR5013.829 0.46814.297
mm10.30kbp.SR500.3130.0240.337
mm10.500kbp.SR500.0290.0000.029
mm10.50kbp.SR500.2020.0080.210
mm10.5kbp.SR501.8780.1191.998