Back to Build/check report for BioC 3.14 experimental data
ABCDEFGHIJKLMNOP[Q]RSTUVWXYZ

This page was generated on 2021-10-16 15:51:46 -0400 (Sat, 16 Oct 2021).

BUILD results for QDNAseq.mm10 on nebbiolo2

To the developers/maintainers of the QDNAseq.mm10 package:
Make sure to use the following settings in order to reproduce any error or warning you see on this page.

raw results

Package 295/404HostnameOS / ArchINSTALLBUILDCHECK
QDNAseq.mm10 1.23.0  (landing page)
Daoud Sie
Snapshot Date: 2021-10-16 09:30:02 -0400 (Sat, 16 Oct 2021)
git_url: https://git.bioconductor.org/packages/QDNAseq.mm10
git_branch: master
git_last_commit: 5a49604
git_last_commit_date: 2021-05-19 11:53:07 -0400 (Wed, 19 May 2021)
nebbiolo2Linux (Ubuntu 20.04.2 LTS) / x86_64  OK    OK    OK  UNNEEDED, same version is already published

Summary

Package: QDNAseq.mm10
Version: 1.23.0
Command: /home/biocbuild/bbs-3.14-bioc/R/bin/R CMD build --keep-empty-dirs --no-resave-data QDNAseq.mm10
StartedAt: 2021-10-16 11:30:32 -0400 (Sat, 16 Oct 2021)
EndedAt: 2021-10-16 11:30:34 -0400 (Sat, 16 Oct 2021)
EllapsedTime: 2.0 seconds
RetCode: 0
Status:   OK  
PackageFile: QDNAseq.mm10_1.23.0.tar.gz
PackageFileSize: 31.18 MiB

Command output

##############################################################################
##############################################################################
###
### Running command:
###
###   /home/biocbuild/bbs-3.14-bioc/R/bin/R CMD build --keep-empty-dirs --no-resave-data QDNAseq.mm10
###
##############################################################################
##############################################################################


* checking for file ‘QDNAseq.mm10/DESCRIPTION’ ... OK
* preparing ‘QDNAseq.mm10’:
* checking DESCRIPTION meta-information ... OK
* checking for LF line-endings in source and make files and shell scripts
* checking for empty or unneeded directories
* looking to see if a ‘data/datalist’ file should be added
* building ‘QDNAseq.mm10_1.23.0.tar.gz’