Back to Build/check report for BioC 3.14 experimental data
ABCDEFGHIJKLMNOP[Q]RSTUVWXYZ

This page was generated on 2021-11-24 18:35:27 -0500 (Wed, 24 Nov 2021).

BUILD results for QDNAseq.hg19 on nebbiolo2

To the developers/maintainers of the QDNAseq.hg19 package:
Make sure to use the following settings in order to reproduce any error or warning you see on this page.

raw results

Package 296/408HostnameOS / ArchINSTALLBUILDCHECK
QDNAseq.hg19 1.24.0  (landing page)
Daoud Sie
Snapshot Date: 2021-11-24 08:30:01 -0500 (Wed, 24 Nov 2021)
git_url: https://git.bioconductor.org/packages/QDNAseq.hg19
git_branch: RELEASE_3_14
git_last_commit: b502a4b
git_last_commit_date: 2021-10-26 12:17:07 -0500 (Tue, 26 Oct 2021)
nebbiolo2Linux (Ubuntu 20.04.3 LTS) / x86_64  OK    OK    OK  UNNEEDED, same version is already published

Summary

Package: QDNAseq.hg19
Version: 1.24.0
Command: /home/biocbuild/bbs-3.14-bioc/R/bin/R CMD build --keep-empty-dirs --no-resave-data QDNAseq.hg19
StartedAt: 2021-11-24 14:43:16 -0500 (Wed, 24 Nov 2021)
EndedAt: 2021-11-24 14:43:18 -0500 (Wed, 24 Nov 2021)
EllapsedTime: 2.2 seconds
RetCode: 0
Status:   OK  
PackageFile: QDNAseq.hg19_1.24.0.tar.gz
PackageFileSize: 35.26 MiB

Command output

##############################################################################
##############################################################################
###
### Running command:
###
###   /home/biocbuild/bbs-3.14-bioc/R/bin/R CMD build --keep-empty-dirs --no-resave-data QDNAseq.hg19
###
##############################################################################
##############################################################################


* checking for file ‘QDNAseq.hg19/DESCRIPTION’ ... OK
* preparing ‘QDNAseq.hg19’:
* checking DESCRIPTION meta-information ... OK
* checking for LF line-endings in source and make files and shell scripts
* checking for empty or unneeded directories
* looking to see if a ‘data/datalist’ file should be added
* building ‘QDNAseq.hg19_1.24.0.tar.gz’