Back to Build/check report for BioC 3.14 experimental data
ABCDEFGHIJKLMNO[P]QRSTUVWXYZ

This page was generated on 2021-11-24 18:35:27 -0500 (Wed, 24 Nov 2021).

INSTALL results for PtH2O2lipids on nebbiolo2

To the developers/maintainers of the PtH2O2lipids package:
Make sure to use the following settings in order to reproduce any error or warning you see on this page.

raw results

Package 290/408HostnameOS / ArchINSTALLBUILDCHECK
PtH2O2lipids 1.20.0  (landing page)
James Collins
Snapshot Date: 2021-11-24 08:30:01 -0500 (Wed, 24 Nov 2021)
git_url: https://git.bioconductor.org/packages/PtH2O2lipids
git_branch: RELEASE_3_14
git_last_commit: 9f2e44f
git_last_commit_date: 2021-10-26 12:27:34 -0500 (Tue, 26 Oct 2021)
nebbiolo2Linux (Ubuntu 20.04.3 LTS) / x86_64  OK    OK    WARNINGS  UNNEEDED, same version is already published

Summary

Package: PtH2O2lipids
Version: 1.20.0
Command: /home/biocbuild/bbs-3.14-bioc/R/bin/R CMD INSTALL PtH2O2lipids
StartedAt: 2021-11-24 14:06:16 -0500 (Wed, 24 Nov 2021)
EndedAt: 2021-11-24 14:06:44 -0500 (Wed, 24 Nov 2021)
EllapsedTime: 27.1 seconds
RetCode: 0
Status:   OK  

Command output

##############################################################################
##############################################################################
###
### Running command:
###
###   /home/biocbuild/bbs-3.14-bioc/R/bin/R CMD INSTALL PtH2O2lipids
###
##############################################################################
##############################################################################


* installing to library ‘/home/biocbuild/bbs-3.14-bioc/R/library’
* installing *source* package ‘PtH2O2lipids’ ...
** using staged installation
** R
** data
** inst
** byte-compile and prepare package for lazy loading
Warning message:
multiple methods tables found for ‘polarity<-’ 
Warning: replacing previous import ‘xcms::polarity<-’ by ‘LOBSTAHS::polarity<-’ when loading ‘PtH2O2lipids’
** help
*** installing help indices
** building package indices
** testing if installed package can be loaded from temporary location
Warning: multiple methods tables found for ‘polarity<-’
Warning: replacing previous import ‘xcms::polarity<-’ by ‘LOBSTAHS::polarity<-’ when loading ‘PtH2O2lipids’
** testing if installed package can be loaded from final location
Warning: multiple methods tables found for ‘polarity<-’
Warning: replacing previous import ‘xcms::polarity<-’ by ‘LOBSTAHS::polarity<-’ when loading ‘PtH2O2lipids’
** testing if installed package keeps a record of temporary installation path
* DONE (PtH2O2lipids)