Back to Build/check report for BioC 3.14 experimental data
ABCDEFGHIJKLMNO[P]QRSTUVWXYZ

This page was generated on 2021-10-26 15:52:18 -0400 (Tue, 26 Oct 2021).

All results for package PtH2O2lipids

To the developers/maintainers of the PtH2O2lipids package:
Make sure to use the following settings in order to reproduce any error or warning you see on this page.

raw results

Package 290/408HostnameOS / ArchINSTALLBUILDCHECK
PtH2O2lipids 1.19.0  (landing page)
James Collins
Snapshot Date: 2021-10-26 09:30:02 -0400 (Tue, 26 Oct 2021)
git_url: https://git.bioconductor.org/packages/PtH2O2lipids
git_branch: master
git_last_commit: 663d1bf
git_last_commit_date: 2021-05-19 11:59:34 -0400 (Wed, 19 May 2021)
nebbiolo2Linux (Ubuntu 20.04.2 LTS) / x86_64  OK    OK    WARNINGS  UNNEEDED, same version is already published