Back to Build/check report for BioC 3.14 experimental data
ABCDEFGHIJKLMNO[P]QRSTUVWXYZ

This page was generated on 2021-12-01 18:35:25 -0500 (Wed, 01 Dec 2021).

BUILD results for ProData on nebbiolo2

To the developers/maintainers of the ProData package:
Make sure to use the following settings in order to reproduce any error or warning you see on this page.

raw results

Package 282/408HostnameOS / ArchINSTALLBUILDCHECK
ProData 1.32.0  (landing page)
Xiaochun Li
Snapshot Date: 2021-12-01 08:30:01 -0500 (Wed, 01 Dec 2021)
git_url: https://git.bioconductor.org/packages/ProData
git_branch: RELEASE_3_14
git_last_commit: 94823c7
git_last_commit_date: 2021-10-26 11:40:55 -0500 (Tue, 26 Oct 2021)
nebbiolo2Linux (Ubuntu 20.04.3 LTS) / x86_64  OK    OK    OK  UNNEEDED, same version is already published

Summary

Package: ProData
Version: 1.32.0
Command: /home/biocbuild/bbs-3.14-bioc/R/bin/R CMD build --keep-empty-dirs --no-resave-data ProData
StartedAt: 2021-12-01 14:31:28 -0500 (Wed, 01 Dec 2021)
EndedAt: 2021-12-01 14:31:30 -0500 (Wed, 01 Dec 2021)
EllapsedTime: 1.6 seconds
RetCode: 0
Status:   OK  
PackageFile: ProData_1.32.0.tar.gz
PackageFileSize: 19.05 MiB

Command output

##############################################################################
##############################################################################
###
### Running command:
###
###   /home/biocbuild/bbs-3.14-bioc/R/bin/R CMD build --keep-empty-dirs --no-resave-data ProData
###
##############################################################################
##############################################################################


* checking for file ‘ProData/DESCRIPTION’ ... OK
* preparing ‘ProData’:
* checking DESCRIPTION meta-information ... OK
* checking for LF line-endings in source and make files and shell scripts
* checking for empty or unneeded directories
* looking to see if a ‘data/datalist’ file should be added
* building ‘ProData_1.32.0.tar.gz’