Back to Build/check report for BioC 3.14 experimental data
ABCDEFGHIJKLMNO[P]QRSTUVWXYZ

This page was generated on 2021-10-16 15:51:46 -0400 (Sat, 16 Oct 2021).

INSTALL results for PhyloProfileData on nebbiolo2

To the developers/maintainers of the PhyloProfileData package:
Make sure to use the following settings in order to reproduce any error or warning you see on this page.

raw results

Package 273/404HostnameOS / ArchINSTALLBUILDCHECK
PhyloProfileData 1.7.1  (landing page)
Vinh Tran
Snapshot Date: 2021-10-16 09:30:02 -0400 (Sat, 16 Oct 2021)
git_url: https://git.bioconductor.org/packages/PhyloProfileData
git_branch: master
git_last_commit: 395664c
git_last_commit_date: 2021-06-29 12:27:58 -0400 (Tue, 29 Jun 2021)
nebbiolo2Linux (Ubuntu 20.04.2 LTS) / x86_64  OK    OK    OK  UNNEEDED, same version is already published

Summary

Package: PhyloProfileData
Version: 1.7.1
Command: /home/biocbuild/bbs-3.14-bioc/R/bin/R CMD INSTALL PhyloProfileData
StartedAt: 2021-10-16 11:07:54 -0400 (Sat, 16 Oct 2021)
EndedAt: 2021-10-16 11:08:05 -0400 (Sat, 16 Oct 2021)
EllapsedTime: 10.7 seconds
RetCode: 0
Status:   OK  

Command output

##############################################################################
##############################################################################
###
### Running command:
###
###   /home/biocbuild/bbs-3.14-bioc/R/bin/R CMD INSTALL PhyloProfileData
###
##############################################################################
##############################################################################


* installing to library ‘/home/biocbuild/bbs-3.14-bioc/R/library’
* installing *source* package ‘PhyloProfileData’ ...
** using staged installation
** R
** inst
** byte-compile and prepare package for lazy loading
** help
*** installing help indices
** building package indices
** installing vignettes
** testing if installed package can be loaded from temporary location
** testing if installed package can be loaded from final location
** testing if installed package keeps a record of temporary installation path
* DONE (PhyloProfileData)