Back to Build/check report for BioC 3.14 experimental data
ABCDEFGHIJKLMNO[P]QRSTUVWXYZ

This page was generated on 2021-10-19 15:52:17 -0400 (Tue, 19 Oct 2021).

All results for package PhyloProfileData

To the developers/maintainers of the PhyloProfileData package:
Make sure to use the following settings in order to reproduce any error or warning you see on this page.

raw results

Package 273/404HostnameOS / ArchINSTALLBUILDCHECK
PhyloProfileData 1.7.1  (landing page)
Vinh Tran
Snapshot Date: 2021-10-19 09:30:02 -0400 (Tue, 19 Oct 2021)
git_url: https://git.bioconductor.org/packages/PhyloProfileData
git_branch: master
git_last_commit: 395664c
git_last_commit_date: 2021-06-29 12:27:58 -0400 (Tue, 29 Jun 2021)
nebbiolo2Linux (Ubuntu 20.04.2 LTS) / x86_64  OK    OK    OK  UNNEEDED, same version is already published