Back to Build/check report for BioC 3.14 experimental data
ABCDEFGHIJKLMNO[P]QRSTUVWXYZ

This page was generated on 2021-10-16 15:51:45 -0400 (Sat, 16 Oct 2021).

All results for package PathNetData

To the developers/maintainers of the PathNetData package:
Make sure to use the following settings in order to reproduce any error or warning you see on this page.

raw results

Package 267/404HostnameOS / ArchINSTALLBUILDCHECK
PathNetData 1.29.0  (landing page)
Ludwig Geistlinger
Snapshot Date: 2021-10-16 09:30:02 -0400 (Sat, 16 Oct 2021)
git_url: https://git.bioconductor.org/packages/PathNetData
git_branch: master
git_last_commit: f24637a
git_last_commit_date: 2021-05-19 11:39:00 -0400 (Wed, 19 May 2021)
nebbiolo2Linux (Ubuntu 20.04.2 LTS) / x86_64  OK    OK    OK  UNNEEDED, same version is already published