Back to Build/check report for BioC 3.14 experimental data
ABCDEFGHIJKLMNO[P]QRSTUVWXYZ

This page was generated on 2021-10-26 15:52:19 -0400 (Tue, 26 Oct 2021).

INSTALL results for PasillaTranscriptExpr on nebbiolo2

To the developers/maintainers of the PasillaTranscriptExpr package:
Make sure to use the following settings in order to reproduce any error or warning you see on this page.

raw results

Package 268/408HostnameOS / ArchINSTALLBUILDCHECK
PasillaTranscriptExpr 1.21.0  (landing page)
Malgorzata Nowicka
Snapshot Date: 2021-10-26 09:30:02 -0400 (Tue, 26 Oct 2021)
git_url: https://git.bioconductor.org/packages/PasillaTranscriptExpr
git_branch: master
git_last_commit: f6c40ba
git_last_commit_date: 2021-05-19 11:56:58 -0400 (Wed, 19 May 2021)
nebbiolo2Linux (Ubuntu 20.04.2 LTS) / x86_64  OK    OK    OK  UNNEEDED, same version is already published

Summary

Package: PasillaTranscriptExpr
Version: 1.21.0
Command: /home/biocbuild/bbs-3.14-bioc/R/bin/R CMD INSTALL PasillaTranscriptExpr
StartedAt: 2021-10-26 11:00:16 -0400 (Tue, 26 Oct 2021)
EndedAt: 2021-10-26 11:00:17 -0400 (Tue, 26 Oct 2021)
EllapsedTime: 0.9 seconds
RetCode: 0
Status:   OK  

Command output

##############################################################################
##############################################################################
###
### Running command:
###
###   /home/biocbuild/bbs-3.14-bioc/R/bin/R CMD INSTALL PasillaTranscriptExpr
###
##############################################################################
##############################################################################


* installing to library ‘/home/biocbuild/bbs-3.14-bioc/R/library’
* installing *source* package ‘PasillaTranscriptExpr’ ...
** using staged installation
** inst
** help
No man pages found in package  ‘PasillaTranscriptExpr’ 
*** installing help indices
** building package indices
** installing vignettes
** testing if installed package can be loaded from temporary location
** testing if installed package can be loaded from final location
** testing if installed package keeps a record of temporary installation path
* DONE (PasillaTranscriptExpr)