Back to Build/check report for BioC 3.14 experimental data
ABCDEFGHIJKLMNO[P]QRSTUVWXYZ

This page was generated on 2021-10-26 15:52:18 -0400 (Tue, 26 Oct 2021).

All results for package PWMEnrich.Hsapiens.background

To the developers/maintainers of the PWMEnrich.Hsapiens.background package:
Make sure to use the following settings in order to reproduce any error or warning you see on this page.

raw results

Package 293/408HostnameOS / ArchINSTALLBUILDCHECK
PWMEnrich.Hsapiens.background 4.27.1  (landing page)
Diego Diez
Snapshot Date: 2021-10-26 09:30:02 -0400 (Tue, 26 Oct 2021)
git_url: https://git.bioconductor.org/packages/PWMEnrich.Hsapiens.background
git_branch: master
git_last_commit: 8b40cba
git_last_commit_date: 2021-07-07 04:57:03 -0400 (Wed, 07 Jul 2021)
nebbiolo2Linux (Ubuntu 20.04.2 LTS) / x86_64  OK    OK    OK  UNNEEDED, same version is already published