Back to Build/check report for BioC 3.14 experimental data
ABCDEFGHIJKLMN[O]PQRSTUVWXYZ

This page was generated on 2021-10-23 15:51:47 -0400 (Sat, 23 Oct 2021).

BUILD results for ObMiTi on nebbiolo2

To the developers/maintainers of the ObMiTi package:
Make sure to use the following settings in order to reproduce any error or warning you see on this page.

raw results

Package 260/408HostnameOS / ArchINSTALLBUILDCHECK
ObMiTi 1.1.1  (landing page)
Omar Elashkar
Snapshot Date: 2021-10-23 09:30:01 -0400 (Sat, 23 Oct 2021)
git_url: https://git.bioconductor.org/packages/ObMiTi
git_branch: master
git_last_commit: ff59ffb
git_last_commit_date: 2021-07-22 01:50:56 -0400 (Thu, 22 Jul 2021)
nebbiolo2Linux (Ubuntu 20.04.2 LTS) / x86_64  OK    OK    OK  UNNEEDED, same version is already published

Summary

Package: ObMiTi
Version: 1.1.1
Command: /home/biocbuild/bbs-3.14-bioc/R/bin/R CMD build --keep-empty-dirs --no-resave-data ObMiTi
StartedAt: 2021-10-23 11:30:46 -0400 (Sat, 23 Oct 2021)
EndedAt: 2021-10-23 11:31:21 -0400 (Sat, 23 Oct 2021)
EllapsedTime: 35.5 seconds
RetCode: 0
Status:   OK  
PackageFile: ObMiTi_1.1.1.tar.gz
PackageFileSize: 35.43 KiB

Command output

##############################################################################
##############################################################################
###
### Running command:
###
###   /home/biocbuild/bbs-3.14-bioc/R/bin/R CMD build --keep-empty-dirs --no-resave-data ObMiTi
###
##############################################################################
##############################################################################


* checking for file ‘ObMiTi/DESCRIPTION’ ... OK
* preparing ‘ObMiTi’:
* checking DESCRIPTION meta-information ... OK
* installing the package to build vignettes
* creating vignettes ... OK
* checking for LF line-endings in source and make files and shell scripts
* checking for empty or unneeded directories
* building ‘ObMiTi_1.1.1.tar.gz’