Back to Build/check report for BioC 3.14 experimental data
ABCDEFGHIJKLMN[O]PQRSTUVWXYZ

This page was generated on 2021-10-21 15:52:02 -0400 (Thu, 21 Oct 2021).

All results for package OMICsPCAdata

To the developers/maintainers of the OMICsPCAdata package:
Make sure to use the following settings in order to reproduce any error or warning you see on this page.

raw results

Package 261/406HostnameOS / ArchINSTALLBUILDCHECK
OMICsPCAdata 1.11.0  (landing page)
Subhadeep Das
Snapshot Date: 2021-10-21 09:30:01 -0400 (Thu, 21 Oct 2021)
git_url: https://git.bioconductor.org/packages/OMICsPCAdata
git_branch: master
git_last_commit: 1796cea
git_last_commit_date: 2021-05-19 12:06:09 -0400 (Wed, 19 May 2021)
nebbiolo2Linux (Ubuntu 20.04.2 LTS) / x86_64  OK    OK    WARNINGS  UNNEEDED, same version is already published