Back to Build/check report for BioC 3.14 experimental data
ABCDEFGHIJKLM[N]OPQRSTUVWXYZ

This page was generated on 2021-10-19 15:52:18 -0400 (Tue, 19 Oct 2021).

CHECK results for Neve2006 on nebbiolo2

To the developers/maintainers of the Neve2006 package:
Make sure to use the following settings in order to reproduce any error or warning you see on this page.

raw results

Package 255/404HostnameOS / ArchINSTALLBUILDCHECK
Neve2006 0.31.0  (landing page)
VJ Carey
Snapshot Date: 2021-10-19 09:30:02 -0400 (Tue, 19 Oct 2021)
git_url: https://git.bioconductor.org/packages/Neve2006
git_branch: master
git_last_commit: ab0d6dc
git_last_commit_date: 2021-05-19 11:26:42 -0400 (Wed, 19 May 2021)
nebbiolo2Linux (Ubuntu 20.04.2 LTS) / x86_64  OK    OK    OK  UNNEEDED, same version is already published

Summary

Package: Neve2006
Version: 0.31.0
Command: /home/biocbuild/bbs-3.14-bioc/R/bin/R CMD check --install=check:Neve2006.install-out.txt --library=/home/biocbuild/bbs-3.14-bioc/R/library --no-vignettes --timings Neve2006_0.31.0.tar.gz
StartedAt: 2021-10-19 12:28:15 -0400 (Tue, 19 Oct 2021)
EndedAt: 2021-10-19 12:29:38 -0400 (Tue, 19 Oct 2021)
EllapsedTime: 83.8 seconds
RetCode: 0
Status:   OK  
CheckDir: Neve2006.Rcheck
Warnings: 0

Command output

##############################################################################
##############################################################################
###
### Running command:
###
###   /home/biocbuild/bbs-3.14-bioc/R/bin/R CMD check --install=check:Neve2006.install-out.txt --library=/home/biocbuild/bbs-3.14-bioc/R/library --no-vignettes --timings Neve2006_0.31.0.tar.gz
###
##############################################################################
##############################################################################


* using log directory ‘/home/biocbuild/bbs-3.14-data-experiment/meat/Neve2006.Rcheck’
* using R version 4.1.1 (2021-08-10)
* using platform: x86_64-pc-linux-gnu (64-bit)
* using session charset: UTF-8
* using option ‘--no-vignettes’
* checking for file ‘Neve2006/DESCRIPTION’ ... OK
* this is package ‘Neve2006’ version ‘0.31.0’
* checking package namespace information ... OK
* checking package dependencies ... OK
* checking if this is a source package ... OK
* checking if there is a namespace ... OK
* checking for hidden files and directories ... OK
* checking for portable file names ... OK
* checking for sufficient/correct file permissions ... OK
* checking whether package ‘Neve2006’ can be installed ... OK
* checking installed package size ... NOTE
  installed size is 70.6Mb
  sub-directories of 1Mb or more:
    data     15.1Mb
    extdata  54.6Mb
* checking package directory ... OK
* checking ‘build’ directory ... OK
* checking DESCRIPTION meta-information ... NOTE
Malformed Description field: should contain one or more complete sentences.
* checking top-level files ... OK
* checking for left-over files ... OK
* checking index information ... OK
* checking package subdirectories ... OK
* checking R files for non-ASCII characters ... OK
* checking R files for syntax errors ... OK
* checking whether the package can be loaded ... OK
* checking whether the package can be loaded with stated dependencies ... OK
* checking whether the package can be unloaded cleanly ... OK
* checking whether the namespace can be loaded with stated dependencies ... OK
* checking whether the namespace can be unloaded cleanly ... OK
* checking dependencies in R code ... NOTE
Packages in Depends field not imported from:
  ‘Biobase’ ‘annotate’ ‘hgu133a.db’ ‘methods’ ‘tools’
  These packages need to be imported from (in the NAMESPACE file)
  for when this namespace is loaded but not attached.
Unexported object imported by a ':::' call: ‘Biobase:::assayDataDims’
  See the note in ?`:::` about the use of this operator.
* checking S3 generic/method consistency ... OK
* checking replacement functions ... OK
* checking foreign function calls ... OK
* checking R code for possible problems ... NOTE
make_cghExSet: no visible global function definition for ‘is’
make_cghExSet: no visible global function definition for ‘new’
[,cghExSet: no visible global function definition for ‘callNextMethod’
[,cghExSet: no visible global function definition for ‘assayDataNew’
[,cghExSet: no visible global function definition for ‘exprs’
[,cghExSet: no visible global function definition for ‘phenoData’
initialize,cghExSet: no visible global function definition for ‘new’
initialize,cghExSet: no visible global function definition for
  ‘callNextMethod’
initialize,cghExSet: no visible global function definition for
  ‘assayDataNew’
logRatios,cghExSet: no visible global function definition for
  ‘assayDataElement’
logRatios,cghSet: no visible global function definition for
  ‘assayDataElement’
show,cghExSet: no visible global function definition for ‘storageMode’
show,cghExSet: no visible global function definition for ‘selectSome’
show,cghExSet: no visible global function definition for ‘featureNames’
show,cghExSet: no visible global function definition for ‘dims’
show,cghExSet: no visible global function definition for ‘show’
show,cghExSet: no visible global function definition for ‘phenoData’
show,cghExSet: no visible global function definition for
  ‘experimentData’
show,cghExSet: no visible global function definition for ‘annotation’
Undefined global functions or variables:
  annotation assayDataElement assayDataNew callNextMethod dims
  experimentData exprs featureNames is new phenoData selectSome show
  storageMode
Consider adding
  importFrom("methods", "callNextMethod", "is", "new", "show")
to your NAMESPACE file (and ensure that your DESCRIPTION Imports field
contains 'methods').
* checking Rd files ... OK
* checking Rd metadata ... OK
* checking Rd cross-references ... OK
* checking for missing documentation entries ... OK
* checking for code/documentation mismatches ... OK
* checking Rd \usage sections ... OK
* checking Rd contents ... OK
* checking for unstated dependencies in examples ... OK
* checking contents of ‘data’ directory ... OK
* checking data for non-ASCII characters ... OK
* checking data for ASCII and uncompressed saves ... OK
* checking files in ‘vignettes’ ... OK
* checking examples ... OK
* checking for unstated dependencies in vignettes ... OK
* checking package vignettes in ‘inst/doc’ ... OK
* checking running R code from vignettes ... SKIPPED
* checking re-building of vignette outputs ... SKIPPED
* checking PDF version of manual ... OK
* DONE

Status: 4 NOTEs
See
  ‘/home/biocbuild/bbs-3.14-data-experiment/meat/Neve2006.Rcheck/00check.log’
for details.



Installation output

Neve2006.Rcheck/00install.out

##############################################################################
##############################################################################
###
### Running command:
###
###   /home/biocbuild/bbs-3.14-bioc/R/bin/R CMD INSTALL Neve2006
###
##############################################################################
##############################################################################


* installing to library ‘/home/biocbuild/bbs-3.14-bioc/R/library’
* installing *source* package ‘Neve2006’ ...
** using staged installation
** R
** data
** inst
** byte-compile and prepare package for lazy loading
** help
*** installing help indices
** building package indices
** installing vignettes
** testing if installed package can be loaded from temporary location
** testing if installed package can be loaded from final location
** testing if installed package keeps a record of temporary installation path
* DONE (Neve2006)

Tests output


Example timings

Neve2006.Rcheck/Neve2006-Ex.timings

nameusersystemelapsed
cghExSet-class0.6340.0040.637
logRatios0.0520.0040.056
neveCGHmatch0.6450.0000.645