Back to Build/check report for BioC 3.14 experimental data
ABCDEFGHIJKLM[N]OPQRSTUVWXYZ

This page was generated on 2021-10-19 15:52:18 -0400 (Tue, 19 Oct 2021).

BUILD results for NGScopyData on nebbiolo2

To the developers/maintainers of the NGScopyData package:
Make sure to use the following settings in order to reproduce any error or warning you see on this page.

raw results

Package 256/404HostnameOS / ArchINSTALLBUILDCHECK
NGScopyData 1.13.0  (landing page)
Xiaobei Zhao
Snapshot Date: 2021-10-19 09:30:02 -0400 (Tue, 19 Oct 2021)
git_url: https://git.bioconductor.org/packages/NGScopyData
git_branch: master
git_last_commit: 30071d9
git_last_commit_date: 2021-05-19 11:48:36 -0400 (Wed, 19 May 2021)
nebbiolo2Linux (Ubuntu 20.04.2 LTS) / x86_64  OK    OK    OK  UNNEEDED, same version is already published

Summary

Package: NGScopyData
Version: 1.13.0
Command: /home/biocbuild/bbs-3.14-bioc/R/bin/R CMD build --keep-empty-dirs --no-resave-data NGScopyData
StartedAt: 2021-10-19 11:29:46 -0400 (Tue, 19 Oct 2021)
EndedAt: 2021-10-19 11:29:49 -0400 (Tue, 19 Oct 2021)
EllapsedTime: 2.6 seconds
RetCode: 0
Status:   OK  
PackageFile: NGScopyData_1.13.0.tar.gz
PackageFileSize: 37 MiB

Command output

##############################################################################
##############################################################################
###
### Running command:
###
###   /home/biocbuild/bbs-3.14-bioc/R/bin/R CMD build --keep-empty-dirs --no-resave-data NGScopyData
###
##############################################################################
##############################################################################


* checking for file ‘NGScopyData/DESCRIPTION’ ... OK
* preparing ‘NGScopyData’:
* checking DESCRIPTION meta-information ... OK
* checking for LF line-endings in source and make files and shell scripts
* checking for empty or unneeded directories
Omitted ‘LazyData’ from DESCRIPTION
* building ‘NGScopyData_1.13.0.tar.gz’