Back to Build/check report for BioC 3.14 experimental data
ABCDEFGHIJKLM[N]OPQRSTUVWXYZ

This page was generated on 2021-10-21 15:52:03 -0400 (Thu, 21 Oct 2021).

BUILD results for NCIgraphData on nebbiolo2

To the developers/maintainers of the NCIgraphData package:
Make sure to use the following settings in order to reproduce any error or warning you see on this page.

raw results

Package 253/406HostnameOS / ArchINSTALLBUILDCHECK
NCIgraphData 1.29.0  (landing page)
Laurent Jacob
Snapshot Date: 2021-10-21 09:30:01 -0400 (Thu, 21 Oct 2021)
git_url: https://git.bioconductor.org/packages/NCIgraphData
git_branch: master
git_last_commit: 951a77b
git_last_commit_date: 2021-05-19 11:31:48 -0400 (Wed, 19 May 2021)
nebbiolo2Linux (Ubuntu 20.04.2 LTS) / x86_64  OK    OK    WARNINGS  UNNEEDED, same version is already published

Summary

Package: NCIgraphData
Version: 1.29.0
Command: /home/biocbuild/bbs-3.14-bioc/R/bin/R CMD build --keep-empty-dirs --no-resave-data NCIgraphData
StartedAt: 2021-10-21 11:29:51 -0400 (Thu, 21 Oct 2021)
EndedAt: 2021-10-21 11:29:52 -0400 (Thu, 21 Oct 2021)
EllapsedTime: 0.6 seconds
RetCode: 0
Status:   OK  
PackageFile: NCIgraphData_1.29.0.tar.gz
PackageFileSize: 5.253 MiB

Command output

##############################################################################
##############################################################################
###
### Running command:
###
###   /home/biocbuild/bbs-3.14-bioc/R/bin/R CMD build --keep-empty-dirs --no-resave-data NCIgraphData
###
##############################################################################
##############################################################################


* checking for file ‘NCIgraphData/DESCRIPTION’ ... OK
* preparing ‘NCIgraphData’:
* checking DESCRIPTION meta-information ... OK
* checking for LF line-endings in source and make files and shell scripts
* checking for empty or unneeded directories
* building ‘NCIgraphData_1.29.0.tar.gz’