Back to Build/check report for BioC 3.14 experimental data
ABCDEFGHIJKL[M]NOPQRSTUVWXYZ

This page was generated on 2021-10-16 15:51:46 -0400 (Sat, 16 Oct 2021).

BUILD results for MouseGastrulationData on nebbiolo2

To the developers/maintainers of the MouseGastrulationData package:
Make sure to use the following settings in order to reproduce any error or warning you see on this page.

raw results

Package 238/404HostnameOS / ArchINSTALLBUILDCHECK
MouseGastrulationData 1.7.0  (landing page)
Jonathan Griffiths
Snapshot Date: 2021-10-16 09:30:02 -0400 (Sat, 16 Oct 2021)
git_url: https://git.bioconductor.org/packages/MouseGastrulationData
git_branch: master
git_last_commit: cfd8055
git_last_commit_date: 2021-05-19 12:08:59 -0400 (Wed, 19 May 2021)
nebbiolo2Linux (Ubuntu 20.04.2 LTS) / x86_64  OK    OK    OK  UNNEEDED, same version is already published

Summary

Package: MouseGastrulationData
Version: 1.7.0
Command: /home/biocbuild/bbs-3.14-bioc/R/bin/R CMD build --keep-empty-dirs --no-resave-data MouseGastrulationData
StartedAt: 2021-10-16 11:27:57 -0400 (Sat, 16 Oct 2021)
EndedAt: 2021-10-16 11:29:19 -0400 (Sat, 16 Oct 2021)
EllapsedTime: 82.7 seconds
RetCode: 0
Status:   OK  
PackageFile: MouseGastrulationData_1.7.0.tar.gz
PackageFileSize: 481 KiB

Command output

##############################################################################
##############################################################################
###
### Running command:
###
###   /home/biocbuild/bbs-3.14-bioc/R/bin/R CMD build --keep-empty-dirs --no-resave-data MouseGastrulationData
###
##############################################################################
##############################################################################


* checking for file ‘MouseGastrulationData/DESCRIPTION’ ... OK
* preparing ‘MouseGastrulationData’:
* checking DESCRIPTION meta-information ... OK
* installing the package to process help pages
* saving partial Rd database
* creating vignettes ... OK
* checking for LF line-endings in source and make files and shell scripts
* checking for empty or unneeded directories
* building ‘MouseGastrulationData_1.7.0.tar.gz’