Back to Build/check report for BioC 3.14 experimental data
ABCDEFGHIJKL[M]NOPQRSTUVWXYZ

This page was generated on 2021-10-16 15:51:46 -0400 (Sat, 16 Oct 2021).

BUILD results for MetaGxOvarian on nebbiolo2

To the developers/maintainers of the MetaGxOvarian package:
Make sure to use the following settings in order to reproduce any error or warning you see on this page.

raw results

Package 219/404HostnameOS / ArchINSTALLBUILDCHECK
MetaGxOvarian 1.13.1  (landing page)
Benjamin Haibe-Kains
Snapshot Date: 2021-10-16 09:30:02 -0400 (Sat, 16 Oct 2021)
git_url: https://git.bioconductor.org/packages/MetaGxOvarian
git_branch: master
git_last_commit: 7522d7a
git_last_commit_date: 2021-08-11 16:30:57 -0400 (Wed, 11 Aug 2021)
nebbiolo2Linux (Ubuntu 20.04.2 LTS) / x86_64  OK    OK    WARNINGS  UNNEEDED, same version is already published

Summary

Package: MetaGxOvarian
Version: 1.13.1
Command: /home/biocbuild/bbs-3.14-bioc/R/bin/R CMD build --keep-empty-dirs --no-resave-data MetaGxOvarian
StartedAt: 2021-10-16 11:26:33 -0400 (Sat, 16 Oct 2021)
EndedAt: 2021-10-16 11:27:59 -0400 (Sat, 16 Oct 2021)
EllapsedTime: 86.2 seconds
RetCode: 0
Status:   OK  
PackageFile: MetaGxOvarian_1.13.1.tar.gz
PackageFileSize: 256.6 KiB

Command output

##############################################################################
##############################################################################
###
### Running command:
###
###   /home/biocbuild/bbs-3.14-bioc/R/bin/R CMD build --keep-empty-dirs --no-resave-data MetaGxOvarian
###
##############################################################################
##############################################################################


* checking for file ‘MetaGxOvarian/DESCRIPTION’ ... OK
* preparing ‘MetaGxOvarian’:
* checking DESCRIPTION meta-information ... OK
* installing the package to build vignettes
* creating vignettes ... OK
* checking for LF line-endings in source and make files and shell scripts
* checking for empty or unneeded directories
Omitted ‘LazyData’ from DESCRIPTION
* building ‘MetaGxOvarian_1.13.1.tar.gz’