Back to Build/check report for BioC 3.14 experimental data
ABCDEFGHIJKL[M]NOPQRSTUVWXYZ

This page was generated on 2021-10-26 15:52:18 -0400 (Tue, 26 Oct 2021).

All results for package MetaGxOvarian

To the developers/maintainers of the MetaGxOvarian package:
Make sure to use the following settings in order to reproduce any error or warning you see on this page.

raw results

Package 220/408HostnameOS / ArchINSTALLBUILDCHECK
MetaGxOvarian 1.13.1  (landing page)
Benjamin Haibe-Kains
Snapshot Date: 2021-10-26 09:30:02 -0400 (Tue, 26 Oct 2021)
git_url: https://git.bioconductor.org/packages/MetaGxOvarian
git_branch: master
git_last_commit: 7522d7a
git_last_commit_date: 2021-08-11 16:30:57 -0400 (Wed, 11 Aug 2021)
nebbiolo2Linux (Ubuntu 20.04.2 LTS) / x86_64  OK    OK    WARNINGS  UNNEEDED, same version is already published