Back to Build/check report for BioC 3.14 experimental data
ABCDEFGHIJKL[M]NOPQRSTUVWXYZ

This page was generated on 2021-10-26 15:52:18 -0400 (Tue, 26 Oct 2021).

BUILD results for MetaGxBreast on nebbiolo2

To the developers/maintainers of the MetaGxBreast package:
Make sure to use the following settings in order to reproduce any error or warning you see on this page.

raw results

Package 219/408HostnameOS / ArchINSTALLBUILDCHECK
MetaGxBreast 1.13.0  (landing page)
Benjamin Haibe-Kains
Snapshot Date: 2021-10-26 09:30:02 -0400 (Tue, 26 Oct 2021)
git_url: https://git.bioconductor.org/packages/MetaGxBreast
git_branch: master
git_last_commit: 7ac4119
git_last_commit_date: 2021-05-19 12:04:18 -0400 (Wed, 19 May 2021)
nebbiolo2Linux (Ubuntu 20.04.2 LTS) / x86_64  OK    OK    OK  UNNEEDED, same version is already published

Summary

Package: MetaGxBreast
Version: 1.13.0
Command: /home/biocbuild/bbs-3.14-bioc/R/bin/R CMD build --keep-empty-dirs --no-resave-data MetaGxBreast
StartedAt: 2021-10-26 11:29:14 -0400 (Tue, 26 Oct 2021)
EndedAt: 2021-10-26 11:30:13 -0400 (Tue, 26 Oct 2021)
EllapsedTime: 58.6 seconds
RetCode: 0
Status:   OK  
PackageFile: MetaGxBreast_1.13.0.tar.gz
PackageFileSize: 171.8 KiB

Command output

##############################################################################
##############################################################################
###
### Running command:
###
###   /home/biocbuild/bbs-3.14-bioc/R/bin/R CMD build --keep-empty-dirs --no-resave-data MetaGxBreast
###
##############################################################################
##############################################################################


* checking for file ‘MetaGxBreast/DESCRIPTION’ ... OK
* preparing ‘MetaGxBreast’:
* checking DESCRIPTION meta-information ... OK
* installing the package to build vignettes
* creating vignettes ... OK
* checking for LF line-endings in source and make files and shell scripts
* checking for empty or unneeded directories
Omitted ‘LazyData’ from DESCRIPTION
* building ‘MetaGxBreast_1.13.0.tar.gz’