Back to Build/check report for BioC 3.14 experimental data
ABCDEFGHIJKL[M]NOPQRSTUVWXYZ

This page was generated on 2021-10-26 15:52:18 -0400 (Tue, 26 Oct 2021).

BUILD results for MUGAExampleData on nebbiolo2

To the developers/maintainers of the MUGAExampleData package:
Make sure to use the following settings in order to reproduce any error or warning you see on this page.

raw results

Package 249/408HostnameOS / ArchINSTALLBUILDCHECK
MUGAExampleData 1.13.0  (landing page)
Daniel Gatti
Snapshot Date: 2021-10-26 09:30:02 -0400 (Tue, 26 Oct 2021)
git_url: https://git.bioconductor.org/packages/MUGAExampleData
git_branch: master
git_last_commit: 0d0b34f
git_last_commit_date: 2021-05-19 11:47:33 -0400 (Wed, 19 May 2021)
nebbiolo2Linux (Ubuntu 20.04.2 LTS) / x86_64  OK    OK    OK  UNNEEDED, same version is already published

Summary

Package: MUGAExampleData
Version: 1.13.0
Command: /home/biocbuild/bbs-3.14-bioc/R/bin/R CMD build --keep-empty-dirs --no-resave-data MUGAExampleData
StartedAt: 2021-10-26 11:31:12 -0400 (Tue, 26 Oct 2021)
EndedAt: 2021-10-26 11:31:20 -0400 (Tue, 26 Oct 2021)
EllapsedTime: 8.5 seconds
RetCode: 0
Status:   OK  
PackageFile: MUGAExampleData_1.13.0.tar.gz
PackageFileSize: 88.58 MiB

Command output

##############################################################################
##############################################################################
###
### Running command:
###
###   /home/biocbuild/bbs-3.14-bioc/R/bin/R CMD build --keep-empty-dirs --no-resave-data MUGAExampleData
###
##############################################################################
##############################################################################


* checking for file ‘MUGAExampleData/DESCRIPTION’ ... OK
* preparing ‘MUGAExampleData’:
* checking DESCRIPTION meta-information ... OK
* installing the package to build vignettes
* creating vignettes ... OK
* checking for LF line-endings in source and make files and shell scripts
* checking for empty or unneeded directories
* looking to see if a ‘data/datalist’ file should be added
* building ‘MUGAExampleData_1.13.0.tar.gz’