Back to Build/check report for BioC 3.14 experimental data
ABCDEFGHIJKL[M]NOPQRSTUVWXYZ

This page was generated on 2021-11-24 18:35:26 -0500 (Wed, 24 Nov 2021).

INSTALL results for MSstatsBioData on nebbiolo2

To the developers/maintainers of the MSstatsBioData package:
Make sure to use the following settings in order to reproduce any error or warning you see on this page.

raw results

Package 247/408HostnameOS / ArchINSTALLBUILDCHECK
MSstatsBioData 1.16.0  (landing page)
Meena Choi
Snapshot Date: 2021-11-24 08:30:01 -0500 (Wed, 24 Nov 2021)
git_url: https://git.bioconductor.org/packages/MSstatsBioData
git_branch: RELEASE_3_14
git_last_commit: 9dee8ec
git_last_commit_date: 2021-10-26 12:29:26 -0500 (Tue, 26 Oct 2021)
nebbiolo2Linux (Ubuntu 20.04.3 LTS) / x86_64  OK    ERROR  skipped

Summary

Package: MSstatsBioData
Version: 1.16.0
Command: /home/biocbuild/bbs-3.14-bioc/R/bin/R CMD INSTALL MSstatsBioData
StartedAt: 2021-11-24 14:00:10 -0500 (Wed, 24 Nov 2021)
EndedAt: 2021-11-24 14:00:13 -0500 (Wed, 24 Nov 2021)
EllapsedTime: 2.6 seconds
RetCode: 0
Status:   OK  

Command output

##############################################################################
##############################################################################
###
### Running command:
###
###   /home/biocbuild/bbs-3.14-bioc/R/bin/R CMD INSTALL MSstatsBioData
###
##############################################################################
##############################################################################


* installing to library ‘/home/biocbuild/bbs-3.14-bioc/R/library’
* installing *source* package ‘MSstatsBioData’ ...
** using staged installation
** data
*** moving datasets to lazyload DB
** inst
** help
*** installing help indices
** building package indices
** installing vignettes
** testing if installed package can be loaded from temporary location
** testing if installed package can be loaded from final location
** testing if installed package keeps a record of temporary installation path
* DONE (MSstatsBioData)