Back to Build/check report for BioC 3.14 experimental data
ABCDEFGHIJKL[M]NOPQRSTUVWXYZ

This page was generated on 2021-10-26 15:52:18 -0400 (Tue, 26 Oct 2021).

BUILD results for MSMB on nebbiolo2

To the developers/maintainers of the MSMB package:
Make sure to use the following settings in order to reproduce any error or warning you see on this page.

raw results

Package 244/408HostnameOS / ArchINSTALLBUILDCHECK
MSMB 1.11.0  (landing page)
Wolfgang Huber
Snapshot Date: 2021-10-26 09:30:02 -0400 (Tue, 26 Oct 2021)
git_url: https://git.bioconductor.org/packages/MSMB
git_branch: master
git_last_commit: 4cd4a6f
git_last_commit_date: 2021-05-19 12:05:03 -0400 (Wed, 19 May 2021)
nebbiolo2Linux (Ubuntu 20.04.2 LTS) / x86_64  OK    OK    WARNINGS  UNNEEDED, same version is already published

Summary

Package: MSMB
Version: 1.11.0
Command: /home/biocbuild/bbs-3.14-bioc/R/bin/R CMD build --keep-empty-dirs --no-resave-data MSMB
StartedAt: 2021-10-26 11:31:01 -0400 (Tue, 26 Oct 2021)
EndedAt: 2021-10-26 11:31:07 -0400 (Tue, 26 Oct 2021)
EllapsedTime: 5.6 seconds
RetCode: 0
Status:   OK  
PackageFile: MSMB_1.11.0.tar.gz
PackageFileSize: 4.941 MiB

Command output

##############################################################################
##############################################################################
###
### Running command:
###
###   /home/biocbuild/bbs-3.14-bioc/R/bin/R CMD build --keep-empty-dirs --no-resave-data MSMB
###
##############################################################################
##############################################################################


* checking for file ‘MSMB/DESCRIPTION’ ... OK
* preparing ‘MSMB’:
* checking DESCRIPTION meta-information ... OK
* installing the package to build vignettes
* creating vignettes ... OK
* checking for LF line-endings in source and make files and shell scripts
* checking for empty or unneeded directories
* looking to see if a ‘data/datalist’ file should be added
* building ‘MSMB_1.11.0.tar.gz’