Back to Build/check report for BioC 3.14 experimental data
ABCDEFGHIJKL[M]NOPQRSTUVWXYZ

This page was generated on 2021-10-21 15:52:03 -0400 (Thu, 21 Oct 2021).

INSTALL results for MOFAdata on nebbiolo2

To the developers/maintainers of the MOFAdata package:
Make sure to use the following settings in order to reproduce any error or warning you see on this page.

raw results

Package 235/406HostnameOS / ArchINSTALLBUILDCHECK
MOFAdata 1.9.1  (landing page)
Britta Velten
Snapshot Date: 2021-10-21 09:30:01 -0400 (Thu, 21 Oct 2021)
git_url: https://git.bioconductor.org/packages/MOFAdata
git_branch: master
git_last_commit: 4fb5d95
git_last_commit_date: 2021-06-29 10:59:04 -0400 (Tue, 29 Jun 2021)
nebbiolo2Linux (Ubuntu 20.04.2 LTS) / x86_64  OK    OK    OK  UNNEEDED, same version is already published

Summary

Package: MOFAdata
Version: 1.9.1
Command: /home/biocbuild/bbs-3.14-bioc/R/bin/R CMD INSTALL MOFAdata
StartedAt: 2021-10-21 11:00:31 -0400 (Thu, 21 Oct 2021)
EndedAt: 2021-10-21 11:00:44 -0400 (Thu, 21 Oct 2021)
EllapsedTime: 12.5 seconds
RetCode: 0
Status:   OK  

Command output

##############################################################################
##############################################################################
###
### Running command:
###
###   /home/biocbuild/bbs-3.14-bioc/R/bin/R CMD INSTALL MOFAdata
###
##############################################################################
##############################################################################


* installing to library ‘/home/biocbuild/bbs-3.14-bioc/R/library’
* installing *source* package ‘MOFAdata’ ...
** using staged installation
** R
** data
** inst
** byte-compile and prepare package for lazy loading
** help
*** installing help indices
** building package indices
** installing vignettes
** testing if installed package can be loaded from temporary location
** testing if installed package can be loaded from final location
** testing if installed package keeps a record of temporary installation path
* DONE (MOFAdata)