Back to Build/check report for BioC 3.14 experimental data
ABCDEFGHIJKL[M]NOPQRSTUVWXYZ

This page was generated on 2021-10-21 15:52:03 -0400 (Thu, 21 Oct 2021).

BUILD results for MMDiffBamSubset on nebbiolo2

To the developers/maintainers of the MMDiffBamSubset package:
Make sure to use the following settings in order to reproduce any error or warning you see on this page.

raw results

Package 234/406HostnameOS / ArchINSTALLBUILDCHECK
MMDiffBamSubset 1.29.0  (landing page)
Gabriele Schweikert
Snapshot Date: 2021-10-21 09:30:01 -0400 (Thu, 21 Oct 2021)
git_url: https://git.bioconductor.org/packages/MMDiffBamSubset
git_branch: master
git_last_commit: 3caf0cc
git_last_commit_date: 2021-05-19 11:40:11 -0400 (Wed, 19 May 2021)
nebbiolo2Linux (Ubuntu 20.04.2 LTS) / x86_64  OK    OK    OK  UNNEEDED, same version is already published

Summary

Package: MMDiffBamSubset
Version: 1.29.0
Command: /home/biocbuild/bbs-3.14-bioc/R/bin/R CMD build --keep-empty-dirs --no-resave-data MMDiffBamSubset
StartedAt: 2021-10-21 11:28:55 -0400 (Thu, 21 Oct 2021)
EndedAt: 2021-10-21 11:29:31 -0400 (Thu, 21 Oct 2021)
EllapsedTime: 35.5 seconds
RetCode: 0
Status:   OK  
PackageFile: MMDiffBamSubset_1.29.0.tar.gz
PackageFileSize: 632.3 MiB

Command output

##############################################################################
##############################################################################
###
### Running command:
###
###   /home/biocbuild/bbs-3.14-bioc/R/bin/R CMD build --keep-empty-dirs --no-resave-data MMDiffBamSubset
###
##############################################################################
##############################################################################


* checking for file ‘MMDiffBamSubset/DESCRIPTION’ ... OK
* preparing ‘MMDiffBamSubset’:
* checking DESCRIPTION meta-information ... OK
* checking for LF line-endings in source and make files and shell scripts
* checking for empty or unneeded directories
* building ‘MMDiffBamSubset_1.29.0.tar.gz’