Back to Build/check report for BioC 3.14 experimental data
ABCDEFGHIJKL[M]NOPQRSTUVWXYZ

This page was generated on 2021-11-24 18:35:26 -0500 (Wed, 24 Nov 2021).

All results for package MIGSAdata

To the developers/maintainers of the MIGSAdata package:
Make sure to use the following settings in order to reproduce any error or warning you see on this page.

raw results

Package 228/408HostnameOS / ArchINSTALLBUILDCHECK
MIGSAdata 1.18.0  (landing page)
Juan C. Rodriguez
Snapshot Date: 2021-11-24 08:30:01 -0500 (Wed, 24 Nov 2021)
git_url: https://git.bioconductor.org/packages/MIGSAdata
git_branch: RELEASE_3_14
git_last_commit: d58659e
git_last_commit_date: 2021-10-26 12:29:01 -0500 (Tue, 26 Oct 2021)
nebbiolo2Linux (Ubuntu 20.04.3 LTS) / x86_64  OK    OK    OK  UNNEEDED, same version is already published