Back to Build/check report for BioC 3.14 experimental data
ABCDEFGHIJKL[M]NOPQRSTUVWXYZ

This page was generated on 2021-12-01 18:35:25 -0500 (Wed, 01 Dec 2021).

INSTALL results for MEDIPSData on nebbiolo2

To the developers/maintainers of the MEDIPSData package:
Make sure to use the following settings in order to reproduce any error or warning you see on this page.

raw results

Package 217/408HostnameOS / ArchINSTALLBUILDCHECK
MEDIPSData 1.30.0  (landing page)
Lukas Chavez
Snapshot Date: 2021-12-01 08:30:01 -0500 (Wed, 01 Dec 2021)
git_url: https://git.bioconductor.org/packages/MEDIPSData
git_branch: RELEASE_3_14
git_last_commit: 26b157e
git_last_commit_date: 2021-10-26 11:49:19 -0500 (Tue, 26 Oct 2021)
nebbiolo2Linux (Ubuntu 20.04.3 LTS) / x86_64  OK    OK    WARNINGS  UNNEEDED, same version is already published

Summary

Package: MEDIPSData
Version: 1.30.0
Command: /home/biocbuild/bbs-3.14-bioc/R/bin/R CMD INSTALL MEDIPSData
StartedAt: 2021-12-01 14:00:16 -0500 (Wed, 01 Dec 2021)
EndedAt: 2021-12-01 14:00:17 -0500 (Wed, 01 Dec 2021)
EllapsedTime: 1.6 seconds
RetCode: 0
Status:   OK  

Command output

##############################################################################
##############################################################################
###
### Running command:
###
###   /home/biocbuild/bbs-3.14-bioc/R/bin/R CMD INSTALL MEDIPSData
###
##############################################################################
##############################################################################


* installing to library ‘/home/biocbuild/bbs-3.14-bioc/R/library’
* installing *source* package ‘MEDIPSData’ ...
** using staged installation
** data
** inst
** help
*** installing help indices
** building package indices
** testing if installed package can be loaded from temporary location
** testing if installed package can be loaded from final location
** testing if installed package keeps a record of temporary installation path
* DONE (MEDIPSData)