Index of /checkResults/3.14/data-experiment-LATEST/MAQCsubsetILM/raw-results/nebbiolo2

[ICO]NameLast modifiedSizeDescription

[DIR]Parent Directory  -  
[TXT]buildsrc-out.txt20-Jan-2022 04:50 893  
[   ]buildsrc-summary.dcf20-Jan-2022 04:50 435  
[TXT]checksrc-out.txt20-Jan-2022 04:50 2.9K 
[   ]checksrc-summary.dcf20-Jan-2022 04:50 447  
[TXT]install-out.txt20-Jan-2022 04:50 1.1K 
[   ]install-summary.dcf20-Jan-2022 04:50 271