Back to Build/check report for BioC 3.14 experimental data
ABCDEFGHIJKL[M]NOPQRSTUVWXYZ

This page was generated on 2021-10-23 15:51:47 -0400 (Sat, 23 Oct 2021).

BUILD results for MAQCsubsetILM on nebbiolo2

To the developers/maintainers of the MAQCsubsetILM package:
Make sure to use the following settings in order to reproduce any error or warning you see on this page.

raw results

Package 214/408HostnameOS / ArchINSTALLBUILDCHECK
MAQCsubsetILM 1.31.0  (landing page)
Laurent Gatto
Snapshot Date: 2021-10-23 09:30:01 -0400 (Sat, 23 Oct 2021)
git_url: https://git.bioconductor.org/packages/MAQCsubsetILM
git_branch: master
git_last_commit: 59fdeaa
git_last_commit_date: 2021-05-19 11:28:26 -0400 (Wed, 19 May 2021)
nebbiolo2Linux (Ubuntu 20.04.2 LTS) / x86_64  OK    OK    OK  UNNEEDED, same version is already published

Summary

Package: MAQCsubsetILM
Version: 1.31.0
Command: /home/biocbuild/bbs-3.14-bioc/R/bin/R CMD build --keep-empty-dirs --no-resave-data MAQCsubsetILM
StartedAt: 2021-10-23 11:27:24 -0400 (Sat, 23 Oct 2021)
EndedAt: 2021-10-23 11:28:00 -0400 (Sat, 23 Oct 2021)
EllapsedTime: 36.8 seconds
RetCode: 0
Status:   OK  
PackageFile: MAQCsubsetILM_1.31.0.tar.gz
PackageFileSize: 2.886 MiB

Command output

##############################################################################
##############################################################################
###
### Running command:
###
###   /home/biocbuild/bbs-3.14-bioc/R/bin/R CMD build --keep-empty-dirs --no-resave-data MAQCsubsetILM
###
##############################################################################
##############################################################################


* checking for file ‘MAQCsubsetILM/DESCRIPTION’ ... OK
* preparing ‘MAQCsubsetILM’:
* checking DESCRIPTION meta-information ... OK
* installing the package to build vignettes
* creating vignettes ... OK
* checking for LF line-endings in source and make files and shell scripts
* checking for empty or unneeded directories
* looking to see if a ‘data/datalist’ file should be added
* building ‘MAQCsubsetILM_1.31.0.tar.gz’