Back to Build/check report for BioC 3.14 experimental data
ABCDEFGHIJKL[M]NOPQRSTUVWXYZ

This page was generated on 2021-10-23 15:51:47 -0400 (Sat, 23 Oct 2021).

BUILD results for MACSdata on nebbiolo2

To the developers/maintainers of the MACSdata package:
Make sure to use the following settings in order to reproduce any error or warning you see on this page.

raw results

Package 209/408HostnameOS / ArchINSTALLBUILDCHECK
MACSdata 1.1.0  (landing page)
Qiang Hu
Snapshot Date: 2021-10-23 09:30:01 -0400 (Sat, 23 Oct 2021)
git_url: https://git.bioconductor.org/packages/MACSdata
git_branch: master
git_last_commit: 4c7a1af
git_last_commit_date: 2021-05-19 12:11:53 -0400 (Wed, 19 May 2021)
nebbiolo2Linux (Ubuntu 20.04.2 LTS) / x86_64  OK    OK    OK  UNNEEDED, same version is already published

Summary

Package: MACSdata
Version: 1.1.0
Command: /home/biocbuild/bbs-3.14-bioc/R/bin/R CMD build --keep-empty-dirs --no-resave-data MACSdata
StartedAt: 2021-10-23 11:27:03 -0400 (Sat, 23 Oct 2021)
EndedAt: 2021-10-23 11:27:04 -0400 (Sat, 23 Oct 2021)
EllapsedTime: 0.3 seconds
RetCode: 0
Status:   OK  
PackageFile: MACSdata_1.1.0.tar.gz
PackageFileSize: 2.704 KiB

Command output

##############################################################################
##############################################################################
###
### Running command:
###
###   /home/biocbuild/bbs-3.14-bioc/R/bin/R CMD build --keep-empty-dirs --no-resave-data MACSdata
###
##############################################################################
##############################################################################


* checking for file ‘MACSdata/DESCRIPTION’ ... OK
* preparing ‘MACSdata’:
* checking DESCRIPTION meta-information ... OK
* checking for LF line-endings in source and make files and shell scripts
* checking for empty or unneeded directories
Omitted ‘LazyData’ from DESCRIPTION
* building ‘MACSdata_1.1.0.tar.gz’