Back to Build/check report for BioC 3.14 experimental data
ABCDEFGHIJKL[M]NOPQRSTUVWXYZ

This page was generated on 2021-10-21 15:52:03 -0400 (Thu, 21 Oct 2021).

INSTALL results for M3DExampleData on nebbiolo2

To the developers/maintainers of the M3DExampleData package:
Make sure to use the following settings in order to reproduce any error or warning you see on this page.

raw results

Package 206/406HostnameOS / ArchINSTALLBUILDCHECK
M3DExampleData 1.19.0  (landing page)
Tallulah Andrews
Snapshot Date: 2021-10-21 09:30:01 -0400 (Thu, 21 Oct 2021)
git_url: https://git.bioconductor.org/packages/M3DExampleData
git_branch: master
git_last_commit: 26d5032
git_last_commit_date: 2021-05-19 11:59:48 -0400 (Wed, 19 May 2021)
nebbiolo2Linux (Ubuntu 20.04.2 LTS) / x86_64  OK    OK    WARNINGS  UNNEEDED, same version is already published

Summary

Package: M3DExampleData
Version: 1.19.0
Command: /home/biocbuild/bbs-3.14-bioc/R/bin/R CMD INSTALL M3DExampleData
StartedAt: 2021-10-21 11:00:16 -0400 (Thu, 21 Oct 2021)
EndedAt: 2021-10-21 11:00:18 -0400 (Thu, 21 Oct 2021)
EllapsedTime: 2.5 seconds
RetCode: 0
Status:   OK  

Command output

##############################################################################
##############################################################################
###
### Running command:
###
###   /home/biocbuild/bbs-3.14-bioc/R/bin/R CMD INSTALL M3DExampleData
###
##############################################################################
##############################################################################


* installing to library ‘/home/biocbuild/bbs-3.14-bioc/R/library’
* installing *source* package ‘M3DExampleData’ ...
** using staged installation
** data
*** moving datasets to lazyload DB
** help
*** installing help indices
** building package indices
** installing vignettes
** testing if installed package can be loaded from temporary location
** testing if installed package can be loaded from final location
** testing if installed package keeps a record of temporary installation path
* DONE (M3DExampleData)