Back to Build/check report for BioC 3.14 experimental data
ABCDEFGHIJK[L]MNOPQRSTUVWXYZ

This page was generated on 2021-10-21 15:52:03 -0400 (Thu, 21 Oct 2021).

BUILD results for LungCancerLines on nebbiolo2

To the developers/maintainers of the LungCancerLines package:
Make sure to use the following settings in order to reproduce any error or warning you see on this page.

raw results

Package 203/406HostnameOS / ArchINSTALLBUILDCHECK
LungCancerLines 0.31.0  (landing page)
Cory Barr
Snapshot Date: 2021-10-21 09:30:01 -0400 (Thu, 21 Oct 2021)
git_url: https://git.bioconductor.org/packages/LungCancerLines
git_branch: master
git_last_commit: 40014ec
git_last_commit_date: 2021-05-19 11:38:36 -0400 (Wed, 19 May 2021)
nebbiolo2Linux (Ubuntu 20.04.2 LTS) / x86_64  OK    OK    OK  UNNEEDED, same version is already published

Summary

Package: LungCancerLines
Version: 0.31.0
Command: /home/biocbuild/bbs-3.14-bioc/R/bin/R CMD build --keep-empty-dirs --no-resave-data LungCancerLines
StartedAt: 2021-10-21 11:26:32 -0400 (Thu, 21 Oct 2021)
EndedAt: 2021-10-21 11:26:34 -0400 (Thu, 21 Oct 2021)
EllapsedTime: 2.1 seconds
RetCode: 0
Status:   OK  
PackageFile: LungCancerLines_0.31.0.tar.gz
PackageFileSize: 1.608 MiB

Command output

##############################################################################
##############################################################################
###
### Running command:
###
###   /home/biocbuild/bbs-3.14-bioc/R/bin/R CMD build --keep-empty-dirs --no-resave-data LungCancerLines
###
##############################################################################
##############################################################################


* checking for file ‘LungCancerLines/DESCRIPTION’ ... OK
* preparing ‘LungCancerLines’:
* checking DESCRIPTION meta-information ... OK
* checking for LF line-endings in source and make files and shell scripts
* checking for empty or unneeded directories
* building ‘LungCancerLines_0.31.0.tar.gz’