Back to Build/check report for BioC 3.14 experimental data
ABCDEFGHIJK[L]MNOPQRSTUVWXYZ

This page was generated on 2021-10-23 15:51:47 -0400 (Sat, 23 Oct 2021).

INSTALL results for LungCancerACvsSCCGEO on nebbiolo2

To the developers/maintainers of the LungCancerACvsSCCGEO package:
Make sure to use the following settings in order to reproduce any error or warning you see on this page.

raw results

Package 203/408HostnameOS / ArchINSTALLBUILDCHECK
LungCancerACvsSCCGEO 1.29.0  (landing page)
Adi Laurentiu Tarca
Snapshot Date: 2021-10-23 09:30:01 -0400 (Sat, 23 Oct 2021)
git_url: https://git.bioconductor.org/packages/LungCancerACvsSCCGEO
git_branch: master
git_last_commit: eb7e6a1
git_last_commit_date: 2021-05-19 11:42:36 -0400 (Wed, 19 May 2021)
nebbiolo2Linux (Ubuntu 20.04.2 LTS) / x86_64  OK    OK    OK  UNNEEDED, same version is already published

Summary

Package: LungCancerACvsSCCGEO
Version: 1.29.0
Command: /home/biocbuild/bbs-3.14-bioc/R/bin/R CMD INSTALL LungCancerACvsSCCGEO
StartedAt: 2021-10-23 11:00:10 -0400 (Sat, 23 Oct 2021)
EndedAt: 2021-10-23 11:00:12 -0400 (Sat, 23 Oct 2021)
EllapsedTime: 2.0 seconds
RetCode: 0
Status:   OK  

Command output

##############################################################################
##############################################################################
###
### Running command:
###
###   /home/biocbuild/bbs-3.14-bioc/R/bin/R CMD INSTALL LungCancerACvsSCCGEO
###
##############################################################################
##############################################################################


* installing to library ‘/home/biocbuild/bbs-3.14-bioc/R/library’
* installing *source* package ‘LungCancerACvsSCCGEO’ ...
** using staged installation
** data
** inst
** help
*** installing help indices
** building package indices
** testing if installed package can be loaded from temporary location
** testing if installed package can be loaded from final location
** testing if installed package keeps a record of temporary installation path
* DONE (LungCancerACvsSCCGEO)