Back to Build/check report for BioC 3.14 experimental data
ABCDEFGHIJK[L]MNOPQRSTUVWXYZ

This page was generated on 2021-10-23 15:51:47 -0400 (Sat, 23 Oct 2021).

BUILD results for LungCancerACvsSCCGEO on nebbiolo2

To the developers/maintainers of the LungCancerACvsSCCGEO package:
Make sure to use the following settings in order to reproduce any error or warning you see on this page.

raw results

Package 203/408HostnameOS / ArchINSTALLBUILDCHECK
LungCancerACvsSCCGEO 1.29.0  (landing page)
Adi Laurentiu Tarca
Snapshot Date: 2021-10-23 09:30:01 -0400 (Sat, 23 Oct 2021)
git_url: https://git.bioconductor.org/packages/LungCancerACvsSCCGEO
git_branch: master
git_last_commit: eb7e6a1
git_last_commit_date: 2021-05-19 11:42:36 -0400 (Wed, 19 May 2021)
nebbiolo2Linux (Ubuntu 20.04.2 LTS) / x86_64  OK    OK    OK  UNNEEDED, same version is already published

Summary

Package: LungCancerACvsSCCGEO
Version: 1.29.0
Command: /home/biocbuild/bbs-3.14-bioc/R/bin/R CMD build --keep-empty-dirs --no-resave-data LungCancerACvsSCCGEO
StartedAt: 2021-10-23 11:26:59 -0400 (Sat, 23 Oct 2021)
EndedAt: 2021-10-23 11:29:43 -0400 (Sat, 23 Oct 2021)
EllapsedTime: 164.6 seconds
RetCode: 0
Status:   OK  
PackageFile: LungCancerACvsSCCGEO_1.29.0.tar.gz
PackageFileSize: 138.6 MiB

Command output

##############################################################################
##############################################################################
###
### Running command:
###
###   /home/biocbuild/bbs-3.14-bioc/R/bin/R CMD build --keep-empty-dirs --no-resave-data LungCancerACvsSCCGEO
###
##############################################################################
##############################################################################


* checking for file ‘LungCancerACvsSCCGEO/DESCRIPTION’ ... OK
* preparing ‘LungCancerACvsSCCGEO’:
* checking DESCRIPTION meta-information ... OK
* checking for LF line-endings in source and make files and shell scripts
* checking for empty or unneeded directories
* looking to see if a ‘data/datalist’ file should be added
* building ‘LungCancerACvsSCCGEO_1.29.0.tar.gz’