Back to Build/check report for BioC 3.14 experimental data
ABCDEFGHIJK[L]MNOPQRSTUVWXYZ

This page was generated on 2021-12-01 18:35:25 -0500 (Wed, 01 Dec 2021).

BUILD results for ListerEtAlBSseq on nebbiolo2

To the developers/maintainers of the ListerEtAlBSseq package:
Make sure to use the following settings in order to reproduce any error or warning you see on this page.

raw results

Package 200/408HostnameOS / ArchINSTALLBUILDCHECK
ListerEtAlBSseq 1.26.0  (landing page)
Kamal Kishore
Snapshot Date: 2021-12-01 08:30:01 -0500 (Wed, 01 Dec 2021)
git_url: https://git.bioconductor.org/packages/ListerEtAlBSseq
git_branch: RELEASE_3_14
git_last_commit: 0cb88a2
git_last_commit_date: 2021-10-26 12:10:41 -0500 (Tue, 26 Oct 2021)
nebbiolo2Linux (Ubuntu 20.04.3 LTS) / x86_64  OK    OK    WARNINGS  UNNEEDED, same version is already published

Summary

Package: ListerEtAlBSseq
Version: 1.26.0
Command: /home/biocbuild/bbs-3.14-bioc/R/bin/R CMD build --keep-empty-dirs --no-resave-data ListerEtAlBSseq
StartedAt: 2021-12-01 14:26:04 -0500 (Wed, 01 Dec 2021)
EndedAt: 2021-12-01 14:26:40 -0500 (Wed, 01 Dec 2021)
EllapsedTime: 35.6 seconds
RetCode: 0
Status:   OK  
PackageFile: ListerEtAlBSseq_1.26.0.tar.gz
PackageFileSize: 658.7 MiB

Command output

##############################################################################
##############################################################################
###
### Running command:
###
###   /home/biocbuild/bbs-3.14-bioc/R/bin/R CMD build --keep-empty-dirs --no-resave-data ListerEtAlBSseq
###
##############################################################################
##############################################################################


* checking for file ‘ListerEtAlBSseq/DESCRIPTION’ ... OK
* preparing ‘ListerEtAlBSseq’:
* checking DESCRIPTION meta-information ... OK
* checking for LF line-endings in source and make files and shell scripts
* checking for empty or unneeded directories
* looking to see if a ‘data/datalist’ file should be added
* building ‘ListerEtAlBSseq_1.26.0.tar.gz’