Index of /checkResults/3.14/data-experiment-LATEST/LiebermanAidenHiC2009/raw-results/nebbiolo2

[ICO]NameLast modifiedSizeDescription

[DIR]Parent Directory  -  
[TXT]buildsrc-out.txt20-Jan-2022 04:50 925  
[   ]buildsrc-summary.dcf20-Jan-2022 04:50 459  
[TXT]checksrc-out.txt20-Jan-2022 04:50 3.3K 
[   ]checksrc-summary.dcf20-Jan-2022 04:50 485  
[TXT]install-out.txt20-Jan-2022 04:50 1.0K 
[   ]install-summary.dcf20-Jan-2022 04:50 286