Back to Build/check report for BioC 3.14 experimental data
ABCDEFGHIJK[L]MNOPQRSTUVWXYZ

This page was generated on 2021-10-16 15:51:45 -0400 (Sat, 16 Oct 2021).

All results for package LRcellTypeMarkers

To the developers/maintainers of the LRcellTypeMarkers package:
Make sure to use the following settings in order to reproduce any error or warning you see on this page.

raw results

Package 200/404HostnameOS / ArchINSTALLBUILDCHECK
LRcellTypeMarkers 1.1.1  (landing page)
Wenjing Ma
Snapshot Date: 2021-10-16 09:30:02 -0400 (Sat, 16 Oct 2021)
git_url: https://git.bioconductor.org/packages/LRcellTypeMarkers
git_branch: master
git_last_commit: 84bff48
git_last_commit_date: 2021-10-06 10:40:16 -0400 (Wed, 06 Oct 2021)
nebbiolo2Linux (Ubuntu 20.04.2 LTS) / x86_64  OK    OK    OK  UNNEEDED, same version is already published