Back to Build/check report for BioC 3.14 experimental data
ABCDEFGHIJ[K]LMNOPQRSTUVWXYZ

This page was generated on 2021-10-23 15:51:47 -0400 (Sat, 23 Oct 2021).

INSTALL results for KEGGdzPathwaysGEO on nebbiolo2

To the developers/maintainers of the KEGGdzPathwaysGEO package:
Make sure to use the following settings in order to reproduce any error or warning you see on this page.

raw results

Package 194/408HostnameOS / ArchINSTALLBUILDCHECK
KEGGdzPathwaysGEO 1.31.0  (landing page)
Gaurav Bhatti
Snapshot Date: 2021-10-23 09:30:01 -0400 (Sat, 23 Oct 2021)
git_url: https://git.bioconductor.org/packages/KEGGdzPathwaysGEO
git_branch: master
git_last_commit: b7b8122
git_last_commit_date: 2021-05-19 11:35:17 -0400 (Wed, 19 May 2021)
nebbiolo2Linux (Ubuntu 20.04.2 LTS) / x86_64  OK    OK    OK  UNNEEDED, same version is already published

Summary

Package: KEGGdzPathwaysGEO
Version: 1.31.0
Command: /home/biocbuild/bbs-3.14-bioc/R/bin/R CMD INSTALL KEGGdzPathwaysGEO
StartedAt: 2021-10-23 11:01:15 -0400 (Sat, 23 Oct 2021)
EndedAt: 2021-10-23 11:01:17 -0400 (Sat, 23 Oct 2021)
EllapsedTime: 2.5 seconds
RetCode: 0
Status:   OK  

Command output

##############################################################################
##############################################################################
###
### Running command:
###
###   /home/biocbuild/bbs-3.14-bioc/R/bin/R CMD INSTALL KEGGdzPathwaysGEO
###
##############################################################################
##############################################################################


* installing to library ‘/home/biocbuild/bbs-3.14-bioc/R/library’
* installing *source* package ‘KEGGdzPathwaysGEO’ ...
** using staged installation
** R
** data
** byte-compile and prepare package for lazy loading
** help
*** installing help indices
** building package indices
** testing if installed package can be loaded from temporary location
** testing if installed package can be loaded from final location
** testing if installed package keeps a record of temporary installation path
* DONE (KEGGdzPathwaysGEO)