Back to Build/check report for BioC 3.14 experimental data
ABCDEFGHIJ[K]LMNOPQRSTUVWXYZ

This page was generated on 2021-10-23 15:51:47 -0400 (Sat, 23 Oct 2021).

INSTALL results for KEGGandMetacoreDzPathwaysGEO on nebbiolo2

To the developers/maintainers of the KEGGandMetacoreDzPathwaysGEO package:
Make sure to use the following settings in order to reproduce any error or warning you see on this page.

raw results

Package 193/408HostnameOS / ArchINSTALLBUILDCHECK
KEGGandMetacoreDzPathwaysGEO 1.13.0  (landing page)
Gaurav Bhatti
Snapshot Date: 2021-10-23 09:30:01 -0400 (Sat, 23 Oct 2021)
git_url: https://git.bioconductor.org/packages/KEGGandMetacoreDzPathwaysGEO
git_branch: master
git_last_commit: d7bbbb2
git_last_commit_date: 2021-05-19 11:47:20 -0400 (Wed, 19 May 2021)
nebbiolo2Linux (Ubuntu 20.04.2 LTS) / x86_64  OK    OK    OK  UNNEEDED, same version is already published

Summary

Package: KEGGandMetacoreDzPathwaysGEO
Version: 1.13.0
Command: /home/biocbuild/bbs-3.14-bioc/R/bin/R CMD INSTALL KEGGandMetacoreDzPathwaysGEO
StartedAt: 2021-10-23 11:00:57 -0400 (Sat, 23 Oct 2021)
EndedAt: 2021-10-23 11:00:58 -0400 (Sat, 23 Oct 2021)
EllapsedTime: 1.8 seconds
RetCode: 0
Status:   OK  

Command output

##############################################################################
##############################################################################
###
### Running command:
###
###   /home/biocbuild/bbs-3.14-bioc/R/bin/R CMD INSTALL KEGGandMetacoreDzPathwaysGEO
###
##############################################################################
##############################################################################


* installing to library ‘/home/biocbuild/bbs-3.14-bioc/R/library’
* installing *source* package ‘KEGGandMetacoreDzPathwaysGEO’ ...
** using staged installation
** data
** help
*** installing help indices
** building package indices
** installing vignettes
** testing if installed package can be loaded from temporary location
** testing if installed package can be loaded from final location
** testing if installed package keeps a record of temporary installation path
* DONE (KEGGandMetacoreDzPathwaysGEO)