Index of /checkResults/3.14/data-experiment-LATEST/JASPAR2016/raw-results/nebbiolo2

[ICO]NameLast modifiedSizeDescription

[DIR]Parent Directory  -  
[TXT]buildsrc-out.txt20-Jan-2022 04:50 786  
[   ]buildsrc-summary.dcf20-Jan-2022 04:50 425  
[TXT]checksrc-out.txt20-Jan-2022 04:50 2.8K 
[   ]checksrc-summary.dcf20-Jan-2022 04:50 435  
[TXT]install-out.txt20-Jan-2022 04:50 932  
[   ]install-summary.dcf20-Jan-2022 04:50 264