Back to Build/check report for BioC 3.14 experimental data
ABCDEFGHI[J]KLMNOPQRSTUVWXYZ

This page was generated on 2021-10-23 15:51:47 -0400 (Sat, 23 Oct 2021).

INSTALL results for JASPAR2016 on nebbiolo2

To the developers/maintainers of the JASPAR2016 package:
Make sure to use the following settings in order to reproduce any error or warning you see on this page.

raw results

Package 192/408HostnameOS / ArchINSTALLBUILDCHECK
JASPAR2016 1.21.0  (landing page)
Ge Tan
Snapshot Date: 2021-10-23 09:30:01 -0400 (Sat, 23 Oct 2021)
git_url: https://git.bioconductor.org/packages/JASPAR2016
git_branch: master
git_last_commit: e9858b2
git_last_commit_date: 2021-05-19 11:54:04 -0400 (Wed, 19 May 2021)
nebbiolo2Linux (Ubuntu 20.04.2 LTS) / x86_64  OK    OK    OK  UNNEEDED, same version is already published

Summary

Package: JASPAR2016
Version: 1.21.0
Command: /home/biocbuild/bbs-3.14-bioc/R/bin/R CMD INSTALL JASPAR2016
StartedAt: 2021-10-23 11:00:54 -0400 (Sat, 23 Oct 2021)
EndedAt: 2021-10-23 11:00:56 -0400 (Sat, 23 Oct 2021)
EllapsedTime: 1.5 seconds
RetCode: 0
Status:   OK  

Command output

##############################################################################
##############################################################################
###
### Running command:
###
###   /home/biocbuild/bbs-3.14-bioc/R/bin/R CMD INSTALL JASPAR2016
###
##############################################################################
##############################################################################


* installing to library ‘/home/biocbuild/bbs-3.14-bioc/R/library’
* installing *source* package ‘JASPAR2016’ ...
** using staged installation
** R
** inst
** byte-compile and prepare package for lazy loading
** help
*** installing help indices
** building package indices
** testing if installed package can be loaded from temporary location
** testing if installed package can be loaded from final location
** testing if installed package keeps a record of temporary installation path
* DONE (JASPAR2016)