Back to Build/check report for BioC 3.14 experimental data
ABCDEFGHI[J]KLMNOPQRSTUVWXYZ

This page was generated on 2021-10-16 15:51:46 -0400 (Sat, 16 Oct 2021).

CHECK results for JASPAR2016 on nebbiolo2

To the developers/maintainers of the JASPAR2016 package:
Make sure to use the following settings in order to reproduce any error or warning you see on this page.

raw results

Package 191/404HostnameOS / ArchINSTALLBUILDCHECK
JASPAR2016 1.21.0  (landing page)
Ge Tan
Snapshot Date: 2021-10-16 09:30:02 -0400 (Sat, 16 Oct 2021)
git_url: https://git.bioconductor.org/packages/JASPAR2016
git_branch: master
git_last_commit: e9858b2
git_last_commit_date: 2021-05-19 11:54:04 -0400 (Wed, 19 May 2021)
nebbiolo2Linux (Ubuntu 20.04.2 LTS) / x86_64  OK    OK    OK  UNNEEDED, same version is already published

Summary

Package: JASPAR2016
Version: 1.21.0
Command: /home/biocbuild/bbs-3.14-bioc/R/bin/R CMD check --install=check:JASPAR2016.install-out.txt --library=/home/biocbuild/bbs-3.14-bioc/R/library --no-vignettes --timings JASPAR2016_1.21.0.tar.gz
StartedAt: 2021-10-16 12:20:10 -0400 (Sat, 16 Oct 2021)
EndedAt: 2021-10-16 12:20:22 -0400 (Sat, 16 Oct 2021)
EllapsedTime: 12.1 seconds
RetCode: 0
Status:   OK  
CheckDir: JASPAR2016.Rcheck
Warnings: 0

Command output

##############################################################################
##############################################################################
###
### Running command:
###
###   /home/biocbuild/bbs-3.14-bioc/R/bin/R CMD check --install=check:JASPAR2016.install-out.txt --library=/home/biocbuild/bbs-3.14-bioc/R/library --no-vignettes --timings JASPAR2016_1.21.0.tar.gz
###
##############################################################################
##############################################################################


* using log directory ‘/home/biocbuild/bbs-3.14-data-experiment/meat/JASPAR2016.Rcheck’
* using R version 4.1.1 (2021-08-10)
* using platform: x86_64-pc-linux-gnu (64-bit)
* using session charset: UTF-8
* using option ‘--no-vignettes’
* checking for file ‘JASPAR2016/DESCRIPTION’ ... OK
* checking extension type ... Package
* this is package ‘JASPAR2016’ version ‘1.21.0’
* checking package namespace information ... OK
* checking package dependencies ... OK
* checking if this is a source package ... OK
* checking if there is a namespace ... OK
* checking for hidden files and directories ... OK
* checking for portable file names ... OK
* checking for sufficient/correct file permissions ... OK
* checking whether package ‘JASPAR2016’ can be installed ... OK
* checking installed package size ... NOTE
  installed size is 21.6Mb
  sub-directories of 1Mb or more:
    extdata  21.5Mb
* checking package directory ... OK
* checking DESCRIPTION meta-information ... OK
* checking top-level files ... OK
* checking for left-over files ... OK
* checking index information ... OK
* checking package subdirectories ... OK
* checking R files for non-ASCII characters ... OK
* checking R files for syntax errors ... OK
* checking whether the package can be loaded ... OK
* checking whether the package can be loaded with stated dependencies ... OK
* checking whether the package can be unloaded cleanly ... OK
* checking whether the namespace can be loaded with stated dependencies ... OK
* checking whether the namespace can be unloaded cleanly ... OK
* checking dependencies in R code ... OK
* checking S3 generic/method consistency ... OK
* checking replacement functions ... OK
* checking foreign function calls ... OK
* checking R code for possible problems ... OK
* checking Rd files ... OK
* checking Rd metadata ... OK
* checking Rd cross-references ... OK
* checking for missing documentation entries ... OK
* checking for code/documentation mismatches ... OK
* checking Rd \usage sections ... OK
* checking Rd contents ... OK
* checking for unstated dependencies in examples ... OK
* checking examples ... OK
* checking PDF version of manual ... OK
* DONE

Status: 1 NOTE
See
  ‘/home/biocbuild/bbs-3.14-data-experiment/meat/JASPAR2016.Rcheck/00check.log’
for details.



Installation output

JASPAR2016.Rcheck/00install.out

##############################################################################
##############################################################################
###
### Running command:
###
###   /home/biocbuild/bbs-3.14-bioc/R/bin/R CMD INSTALL JASPAR2016
###
##############################################################################
##############################################################################


* installing to library ‘/home/biocbuild/bbs-3.14-bioc/R/library’
* installing *source* package ‘JASPAR2016’ ...
** using staged installation
** R
** inst
** byte-compile and prepare package for lazy loading
** help
*** installing help indices
** building package indices
** testing if installed package can be loaded from temporary location
** testing if installed package can be loaded from final location
** testing if installed package keeps a record of temporary installation path
* DONE (JASPAR2016)

Tests output


Example timings

JASPAR2016.Rcheck/JASPAR2016-Ex.timings

nameusersystemelapsed
JASPAR2016-class000