Back to Build/check report for BioC 3.14 experimental data
ABCDEFGHI[J]KLMNOPQRSTUVWXYZ

This page was generated on 2021-10-26 15:52:18 -0400 (Tue, 26 Oct 2021).

BUILD results for JASPAR2016 on nebbiolo2

To the developers/maintainers of the JASPAR2016 package:
Make sure to use the following settings in order to reproduce any error or warning you see on this page.

raw results

Package 192/408HostnameOS / ArchINSTALLBUILDCHECK
JASPAR2016 1.21.0  (landing page)
Ge Tan
Snapshot Date: 2021-10-26 09:30:02 -0400 (Tue, 26 Oct 2021)
git_url: https://git.bioconductor.org/packages/JASPAR2016
git_branch: master
git_last_commit: e9858b2
git_last_commit_date: 2021-05-19 11:54:04 -0400 (Wed, 19 May 2021)
nebbiolo2Linux (Ubuntu 20.04.2 LTS) / x86_64  OK    OK    OK  UNNEEDED, same version is already published

Summary

Package: JASPAR2016
Version: 1.21.0
Command: /home/biocbuild/bbs-3.14-bioc/R/bin/R CMD build --keep-empty-dirs --no-resave-data JASPAR2016
StartedAt: 2021-10-26 11:27:18 -0400 (Tue, 26 Oct 2021)
EndedAt: 2021-10-26 11:27:22 -0400 (Tue, 26 Oct 2021)
EllapsedTime: 4.4 seconds
RetCode: 0
Status:   OK  
PackageFile: JASPAR2016_1.21.0.tar.gz
PackageFileSize: 8.715 MiB

Command output

##############################################################################
##############################################################################
###
### Running command:
###
###   /home/biocbuild/bbs-3.14-bioc/R/bin/R CMD build --keep-empty-dirs --no-resave-data JASPAR2016
###
##############################################################################
##############################################################################


* checking for file ‘JASPAR2016/DESCRIPTION’ ... OK
* preparing ‘JASPAR2016’:
* checking DESCRIPTION meta-information ... OK
* checking for LF line-endings in source and make files and shell scripts
* checking for empty or unneeded directories
Omitted ‘LazyData’ from DESCRIPTION
* building ‘JASPAR2016_1.21.0.tar.gz’