Back to Build/check report for BioC 3.14 experimental data
ABCDEFGHI[J]KLMNOPQRSTUVWXYZ

This page was generated on 2021-10-26 15:52:18 -0400 (Tue, 26 Oct 2021).

INSTALL results for JASPAR2014 on nebbiolo2

To the developers/maintainers of the JASPAR2014 package:
Make sure to use the following settings in order to reproduce any error or warning you see on this page.

raw results

Package 191/408HostnameOS / ArchINSTALLBUILDCHECK
JASPAR2014 1.29.0  (landing page)
Ge Tan
Snapshot Date: 2021-10-26 09:30:02 -0400 (Tue, 26 Oct 2021)
git_url: https://git.bioconductor.org/packages/JASPAR2014
git_branch: master
git_last_commit: 2c2878a
git_last_commit_date: 2021-05-19 11:44:10 -0400 (Wed, 19 May 2021)
nebbiolo2Linux (Ubuntu 20.04.2 LTS) / x86_64  OK    OK    WARNINGS  UNNEEDED, same version is already published

Summary

Package: JASPAR2014
Version: 1.29.0
Command: /home/biocbuild/bbs-3.14-bioc/R/bin/R CMD INSTALL JASPAR2014
StartedAt: 2021-10-26 11:01:55 -0400 (Tue, 26 Oct 2021)
EndedAt: 2021-10-26 11:02:32 -0400 (Tue, 26 Oct 2021)
EllapsedTime: 37.1 seconds
RetCode: 0
Status:   OK  

Command output

##############################################################################
##############################################################################
###
### Running command:
###
###   /home/biocbuild/bbs-3.14-bioc/R/bin/R CMD INSTALL JASPAR2014
###
##############################################################################
##############################################################################


* installing to library ‘/home/biocbuild/bbs-3.14-bioc/R/library’
* installing *source* package ‘JASPAR2014’ ...
** using staged installation
** R
** data
*** moving datasets to lazyload DB
** inst
** byte-compile and prepare package for lazy loading
** help
*** installing help indices
** building package indices
** testing if installed package can be loaded from temporary location
** testing if installed package can be loaded from final location
** testing if installed package keeps a record of temporary installation path
* DONE (JASPAR2014)