Back to Build/check report for BioC 3.14 experimental data
ABCDEFGHI[J]KLMNOPQRSTUVWXYZ

This page was generated on 2021-10-16 15:51:46 -0400 (Sat, 16 Oct 2021).

BUILD results for JASPAR2014 on nebbiolo2

To the developers/maintainers of the JASPAR2014 package:
Make sure to use the following settings in order to reproduce any error or warning you see on this page.

raw results

Package 190/404HostnameOS / ArchINSTALLBUILDCHECK
JASPAR2014 1.29.0  (landing page)
Ge Tan
Snapshot Date: 2021-10-16 09:30:02 -0400 (Sat, 16 Oct 2021)
git_url: https://git.bioconductor.org/packages/JASPAR2014
git_branch: master
git_last_commit: 2c2878a
git_last_commit_date: 2021-05-19 11:44:10 -0400 (Wed, 19 May 2021)
nebbiolo2Linux (Ubuntu 20.04.2 LTS) / x86_64  OK    OK    WARNINGS  UNNEEDED, same version is already published

Summary

Package: JASPAR2014
Version: 1.29.0
Command: /home/biocbuild/bbs-3.14-bioc/R/bin/R CMD build --keep-empty-dirs --no-resave-data JASPAR2014
StartedAt: 2021-10-16 11:24:38 -0400 (Sat, 16 Oct 2021)
EndedAt: 2021-10-16 11:24:43 -0400 (Sat, 16 Oct 2021)
EllapsedTime: 5.1 seconds
RetCode: 0
Status:   OK  
PackageFile: JASPAR2014_1.29.0.tar.gz
PackageFileSize: 42.89 MiB

Command output

##############################################################################
##############################################################################
###
### Running command:
###
###   /home/biocbuild/bbs-3.14-bioc/R/bin/R CMD build --keep-empty-dirs --no-resave-data JASPAR2014
###
##############################################################################
##############################################################################


* checking for file ‘JASPAR2014/DESCRIPTION’ ... OK
* preparing ‘JASPAR2014’:
* checking DESCRIPTION meta-information ... OK
* checking for LF line-endings in source and make files and shell scripts
* checking for empty or unneeded directories
* building ‘JASPAR2014_1.29.0.tar.gz’