Back to Build/check report for BioC 3.14 experimental data
ABCDEFGH[I]JKLMNOPQRSTUVWXYZ

This page was generated on 2021-10-16 15:51:46 -0400 (Sat, 16 Oct 2021).

BUILD results for Iyer517 on nebbiolo2

To the developers/maintainers of the Iyer517 package:
Make sure to use the following settings in order to reproduce any error or warning you see on this page.

raw results

Package 189/404HostnameOS / ArchINSTALLBUILDCHECK
Iyer517 1.35.0  (landing page)
Vince Carey
Snapshot Date: 2021-10-16 09:30:02 -0400 (Sat, 16 Oct 2021)
git_url: https://git.bioconductor.org/packages/Iyer517
git_branch: master
git_last_commit: 11fb375
git_last_commit_date: 2021-05-19 11:25:23 -0400 (Wed, 19 May 2021)
nebbiolo2Linux (Ubuntu 20.04.2 LTS) / x86_64  OK    OK    OK  UNNEEDED, same version is already published

Summary

Package: Iyer517
Version: 1.35.0
Command: /home/biocbuild/bbs-3.14-bioc/R/bin/R CMD build --keep-empty-dirs --no-resave-data Iyer517
StartedAt: 2021-10-16 11:24:37 -0400 (Sat, 16 Oct 2021)
EndedAt: 2021-10-16 11:24:42 -0400 (Sat, 16 Oct 2021)
EllapsedTime: 4.4 seconds
RetCode: 0
Status:   OK  
PackageFile: Iyer517_1.35.0.tar.gz
PackageFileSize: 248.2 KiB

Command output

##############################################################################
##############################################################################
###
### Running command:
###
###   /home/biocbuild/bbs-3.14-bioc/R/bin/R CMD build --keep-empty-dirs --no-resave-data Iyer517
###
##############################################################################
##############################################################################


* checking for file ‘Iyer517/DESCRIPTION’ ... OK
* preparing ‘Iyer517’:
* checking DESCRIPTION meta-information ... OK
* installing the package to build vignettes
* creating vignettes ... OK
* checking for LF line-endings in source and make files and shell scripts
* checking for empty or unneeded directories
* looking to see if a ‘data/datalist’ file should be added
* building ‘Iyer517_1.35.0.tar.gz’