Back to Build/check report for BioC 3.14 experimental data
ABCDEFGH[I]JKLMNOPQRSTUVWXYZ

This page was generated on 2021-10-23 15:51:47 -0400 (Sat, 23 Oct 2021).

INSTALL results for Illumina450ProbeVariants.db on nebbiolo2

To the developers/maintainers of the Illumina450ProbeVariants.db package:
Make sure to use the following settings in order to reproduce any error or warning you see on this page.

raw results

Package 186/408HostnameOS / ArchINSTALLBUILDCHECK
Illumina450ProbeVariants.db 1.29.0  (landing page)
Tiffany Morris
Snapshot Date: 2021-10-23 09:30:01 -0400 (Sat, 23 Oct 2021)
git_url: https://git.bioconductor.org/packages/Illumina450ProbeVariants.db
git_branch: master
git_last_commit: 7f3d537
git_last_commit_date: 2021-05-19 11:44:45 -0400 (Wed, 19 May 2021)
nebbiolo2Linux (Ubuntu 20.04.2 LTS) / x86_64  OK    OK    OK  UNNEEDED, same version is already published

Summary

Package: Illumina450ProbeVariants.db
Version: 1.29.0
Command: /home/biocbuild/bbs-3.14-bioc/R/bin/R CMD INSTALL Illumina450ProbeVariants.db
StartedAt: 2021-10-23 11:02:42 -0400 (Sat, 23 Oct 2021)
EndedAt: 2021-10-23 11:02:44 -0400 (Sat, 23 Oct 2021)
EllapsedTime: 2.1 seconds
RetCode: 0
Status:   OK  

Command output

##############################################################################
##############################################################################
###
### Running command:
###
###   /home/biocbuild/bbs-3.14-bioc/R/bin/R CMD INSTALL Illumina450ProbeVariants.db
###
##############################################################################
##############################################################################


* installing to library ‘/home/biocbuild/bbs-3.14-bioc/R/library’
* installing *source* package ‘Illumina450ProbeVariants.db’ ...
** using staged installation
** data
** help
*** installing help indices
** building package indices
** testing if installed package can be loaded from temporary location
** testing if installed package can be loaded from final location
** testing if installed package keeps a record of temporary installation path
* DONE (Illumina450ProbeVariants.db)