Back to Build/check report for BioC 3.14 experimental data
ABCDEFG[H]IJKLMNOPQRSTUVWXYZ

This page was generated on 2021-10-26 15:52:18 -0400 (Tue, 26 Oct 2021).

BUILD results for HumanAffyData on nebbiolo2

To the developers/maintainers of the HumanAffyData package:
Make sure to use the following settings in order to reproduce any error or warning you see on this page.

raw results

Package 183/408HostnameOS / ArchINSTALLBUILDCHECK
HumanAffyData 1.19.0  (landing page)
Brad Nelms
Snapshot Date: 2021-10-26 09:30:02 -0400 (Tue, 26 Oct 2021)
git_url: https://git.bioconductor.org/packages/HumanAffyData
git_branch: master
git_last_commit: 5fceee5
git_last_commit_date: 2021-05-19 11:59:45 -0400 (Wed, 19 May 2021)
nebbiolo2Linux (Ubuntu 20.04.2 LTS) / x86_64  OK    OK    OK  UNNEEDED, same version is already published

Summary

Package: HumanAffyData
Version: 1.19.0
Command: /home/biocbuild/bbs-3.14-bioc/R/bin/R CMD build --keep-empty-dirs --no-resave-data HumanAffyData
StartedAt: 2021-10-26 11:26:50 -0400 (Tue, 26 Oct 2021)
EndedAt: 2021-10-26 11:27:12 -0400 (Tue, 26 Oct 2021)
EllapsedTime: 22.6 seconds
RetCode: 0
Status:   OK  
PackageFile: HumanAffyData_1.19.0.tar.gz
PackageFileSize: 151 KiB

Command output

##############################################################################
##############################################################################
###
### Running command:
###
###   /home/biocbuild/bbs-3.14-bioc/R/bin/R CMD build --keep-empty-dirs --no-resave-data HumanAffyData
###
##############################################################################
##############################################################################


* checking for file ‘HumanAffyData/DESCRIPTION’ ... OK
* preparing ‘HumanAffyData’:
* checking DESCRIPTION meta-information ... OK
* installing the package to build vignettes
* creating vignettes ... OK
* checking for LF line-endings in source and make files and shell scripts
* checking for empty or unneeded directories
* building ‘HumanAffyData_1.19.0.tar.gz’