Back to Build/check report for BioC 3.14 experimental data
ABCDEFG[H]IJKLMNOPQRSTUVWXYZ

This page was generated on 2021-11-24 18:35:26 -0500 (Wed, 24 Nov 2021).

INSTALL results for Hiiragi2013 on nebbiolo2

To the developers/maintainers of the Hiiragi2013 package:
Make sure to use the following settings in order to reproduce any error or warning you see on this page.

raw results

Package 178/408HostnameOS / ArchINSTALLBUILDCHECK
Hiiragi2013 1.30.0  (landing page)
Andrzej Oles
Snapshot Date: 2021-11-24 08:30:01 -0500 (Wed, 24 Nov 2021)
git_url: https://git.bioconductor.org/packages/Hiiragi2013
git_branch: RELEASE_3_14
git_last_commit: 26e4b88
git_last_commit_date: 2021-10-26 11:59:26 -0500 (Tue, 26 Oct 2021)
nebbiolo2Linux (Ubuntu 20.04.3 LTS) / x86_64  OK    OK    OK  UNNEEDED, same version is already published

Summary

Package: Hiiragi2013
Version: 1.30.0
Command: /home/biocbuild/bbs-3.14-bioc/R/bin/R CMD INSTALL Hiiragi2013
StartedAt: 2021-11-24 14:02:25 -0500 (Wed, 24 Nov 2021)
EndedAt: 2021-11-24 14:02:42 -0500 (Wed, 24 Nov 2021)
EllapsedTime: 16.6 seconds
RetCode: 0
Status:   OK  

Command output

##############################################################################
##############################################################################
###
### Running command:
###
###   /home/biocbuild/bbs-3.14-bioc/R/bin/R CMD INSTALL Hiiragi2013
###
##############################################################################
##############################################################################


* installing to library ‘/home/biocbuild/bbs-3.14-bioc/R/library’
* installing *source* package ‘Hiiragi2013’ ...
** using staged installation
** R
** data
** inst
** byte-compile and prepare package for lazy loading
** help
*** installing help indices
** building package indices
** installing vignettes
** testing if installed package can be loaded from temporary location
** testing if installed package can be loaded from final location
** testing if installed package keeps a record of temporary installation path
* DONE (Hiiragi2013)